BEGIN:VCALENDAR
VERSION:2.0
PRODID:-//ChamberMaster//Event Calendar 2.0//EN
METHOD:PUBLISH
X-PUBLISHED-TTL:P3D
REFRESH-INTERVAL:P3D
CALSCALE:GREGORIAN
BEGIN:VEVENT
DTSTART:20181127T020000Z
DTEND:20181127T044500Z
X-MICROSOFT-CDO-ALLDAYEVENT:FALSE
SUMMARY:SCORE Workshop - Hiring Made Easy
DESCRIPTION:SCORE is hosting a workshop on Hiring Made Easy:\n\n	List of Probing Questions\n	Finding The Right Applicant\n	Interview Red Flags\n	Creating a Job Description & Your Ad\n	Legal Issues in Interviewing\n	How To Motivate Your Employees
X-ALT-DESC;FMTTYPE=text/html:SCORE is hosting a workshop on <b>Hiring Made Easy</b>:\n<ul>\n	<li>List of Probing Questions</li>\n	<li>Finding The Right Applicant</li>\n	<li>Interview Red Flags</li>\n	<li>Creating a Job Description &amp\; Your Ad</li>\n	<li>Legal Issues in Interviewing</li>\n	<li>How To Motivate Your Employees</li>\n</ul>\n
LOCATION:Orange Public Library (VM GreenField) 407 E Chapman Ave Orange\, CA 92866
UID:e.887.22869
SEQUENCE:3
DTSTAMP:20260423T144135Z
URL:https://nocchamber-gzcms.preview.gochambermaster.com/events/details/score-workshop-hiring-made-easy-22869
END:VEVENT

END:VCALENDAR
