BEGIN:VCALENDAR
VERSION:2.0
PRODID:-//ChamberMaster//Event Calendar 2.0//EN
METHOD:PUBLISH
X-PUBLISHED-TTL:P3D
REFRESH-INTERVAL:P3D
CALSCALE:GREGORIAN
BEGIN:VEVENT
DTSTART:20190118T020000Z
DTEND:20190118T050000Z
X-MICROSOFT-CDO-ALLDAYEVENT:FALSE
SUMMARY:SCORE Workshop - Developing a Business Plan
DESCRIPTION:SCORE Workshop's Developing a Business Plan: \n\n	Stages of development\n	Techniques for setting goals\n	Building strategies
X-ALT-DESC;FMTTYPE=text/html:SCORE Workshop&#39\;s Developing a Business Plan:&nbsp\;\n<ul>\n	<li>Stages of development</li>\n	<li>Techniques for setting goals</li>\n	<li>Building strategies</li>\n</ul>\n
LOCATION:La Palma Community Center (VM Curiel) 7821 Walker Street La Palma\, CA 90623
UID:e.887.22952
SEQUENCE:3
DTSTAMP:20260423T183222Z
URL:https://nocchamber-gzcms.preview.gochambermaster.com/events/details/score-workshop-developing-a-business-plan-22952
END:VEVENT

END:VCALENDAR
