BEGIN:VCALENDAR
VERSION:2.0
PRODID:-//ChamberMaster//Event Calendar 2.0//EN
METHOD:PUBLISH
X-PUBLISHED-TTL:P3D
REFRESH-INTERVAL:P3D
CALSCALE:GREGORIAN
BEGIN:VEVENT
DTSTART:20171110T020000Z
DTEND:20171110T043000Z
X-MICROSOFT-CDO-ALLDAYEVENT:FALSE
SUMMARY:SCORE Workshop Demystifying The Commercial Leasing Process
DESCRIPTION:Commercial building owners & their agents each have a strong background in negotiating leases\, which most commercial tenants lack. This course can help equalize the situation by showing you what to do and how to proceed when you find an office\, industrial or retail space to lease. Leasing commercial property is not overly complex\, but it does take knowledge and skill. Whether you are planning to lease a commercial property on your own or use the services of a qualified broker\, this seminar is designed to take you through the steps of the process and by doing so level the playing field.  \n\nSpeaker: Heather Francine\, Vice President of Sperry Commercial in Irvine\, CA.
X-ALT-DESC;FMTTYPE=text/html:Commercial building owners &amp\; their agents each have a strong background in negotiating leases\, which most commercial tenants lack. This course can help equalize the situation by showing you what to do and how to proceed when you find an office\, industrial or retail space to lease. Leasing commercial property is not overly complex\, but it does take knowledge and skill. Whether you are planning to lease a commercial property on your own or use the services of a qualified broker\, this seminar is designed to take you through the steps of the process and by doing so level the playing field.&nbsp\;&nbsp\;<br />\nSpeaker:&nbsp\;Heather Francine\, Vice President of Sperry&nbsp\;Commercial&nbsp\;in Irvine\, CA.<br />\n&nbsp\;
LOCATION:Yorba Linda Public Library 18181 Imperial Highway Yorba Linda\, CA 92886
UID:e.887.17436
SEQUENCE:3
DTSTAMP:20260421T032718Z
URL:https://nocchamber-gzcms.preview.gochambermaster.com/events/details/score-workshop-demystifying-the-commercial-leasing-process-17436
END:VEVENT

END:VCALENDAR
