BEGIN:VCALENDAR
VERSION:2.0
PRODID:-//ChamberMaster//Event Calendar 2.0//EN
METHOD:PUBLISH
X-PUBLISHED-TTL:P3D
REFRESH-INTERVAL:P3D
CALSCALE:GREGORIAN
BEGIN:VEVENT
DTSTART:20171221T183000Z
DTEND:20171221T213000Z
X-MICROSOFT-CDO-ALLDAYEVENT:FALSE
SUMMARY:SCORE Workshop Costing\, Pricing & Breakeven
DESCRIPTION:How do you price your product or service?  Is it at a level that generates a profit or are you losing money and burning through cash?  All businesses large\, small\, or start-up face this important challenge.  Before establishing prices it is necessary to understand your specific marketing goals\, the factors that influence pricing strategy\, and all possible pricing strategies.\n\n\n\nJim Chamberlain of SCORE presents this workshop.
X-ALT-DESC;FMTTYPE=text/html:How do you price your product or service?&nbsp\; Is it at a level that generates a profit or are you losing money and burning through cash?&nbsp\; All businesses large\, small\, or start-up face this important challenge.&nbsp\; Before establishing prices it is necessary to understand your specific marketing goals\, the factors that influence pricing strategy\, and all possible pricing strategies.<br />\n<br />\nJim Chamberlain of SCORE&nbsp\;presents this workshop.&nbsp\;&nbsp\;
LOCATION:Fullerton Public Library Main Branch 353 W. Commonwealth Ave. Fullerton\, CA 92832
UID:e.887.17483
SEQUENCE:3
DTSTAMP:20260421T032944Z
URL:https://nocchamber-gzcms.preview.gochambermaster.com/events/details/score-workshop-costing-pricing-breakeven-17483
END:VEVENT

END:VCALENDAR
