BEGIN:VCALENDAR
VERSION:2.0
PRODID:-//ChamberMaster//Event Calendar 2.0//EN
METHOD:PUBLISH
X-PUBLISHED-TTL:P3D
REFRESH-INTERVAL:P3D
CALSCALE:GREGORIAN
BEGIN:VEVENT
DTSTART:20161201T013000Z
DTEND:20161201T043000Z
X-MICROSOFT-CDO-ALLDAYEVENT:FALSE
SUMMARY:SCORE Workshop: Buy/Sell & Valuation of a Business
DESCRIPTION:This workshop will help businesses learn how to develop a valuation estimate that is defensible whether they are buying\, selling or starting a business.  This session will also help businesses learn the pros and cons of franchising.  All of this is in "plain English" and based on current valuation concepts.  Instructors will take you through the process using examples of each calculation.\n\nJim Chamberlain of SCORE presents this workshop.  Jim has an MBA and is a CMA (Certified Management Accountant).  Jim has held financial positions with Dexter\, General Dynamics and Statek Corporation\, as well as an environmental start-up.  During his career\, Jim has had extensive experience in merger and acquisition activity as both buyer and seller. He has prepared Business Plans\, sold and purchased businesses and has helped entrepreneurs improve their cash flow.  Management Accounting is his specialty.  He is a past president and director of the Certified Management Accounting Society of Southern California (CMASSC).
X-ALT-DESC;FMTTYPE=text/html:<p>This workshop will help businesses learn how to develop a valuation estimate that is defensible whether they are buying\, selling or starting a business. &nbsp\;This session will also help businesses learn the pros and cons of franchising.&nbsp\; All of this is in &quot\;plain English&quot\; and based on current valuation concepts.&nbsp\; Instructors will take you through the process using examples of each calculation.</p>\n\n<p>Jim Chamberlain of SCORE presents this workshop.&nbsp\; Jim has an MBA and is a CMA (Certified Management Accountant).&nbsp\; Jim has held financial positions with Dexter\, General Dynamics and Statek Corporation\, as well as an environmental start-up.&nbsp\; During his career\, Jim has had extensive experience in merger and acquisition activity as both buyer and seller. He has prepared Business Plans\, sold and purchased businesses and has helped entrepreneurs improve their cash flow.&nbsp\; Management Accounting is his specialty.&nbsp\; He is a past president and director of the Certified Management Accounting Society of Southern California (CMASSC).</p>\n
LOCATION:Yorba Linda Public Library 18181 Imperial Highway Yorba Linda\, CA 92886
UID:e.887.15555
SEQUENCE:3
DTSTAMP:20260422T012121Z
URL:https://nocchamber-gzcms.preview.gochambermaster.com/events/details/score-workshop-buy-sell-valuation-of-a-business-15555
END:VEVENT

END:VCALENDAR
