BEGIN:VCALENDAR
VERSION:2.0
PRODID:-//ChamberMaster//Event Calendar 2.0//EN
METHOD:PUBLISH
X-PUBLISHED-TTL:P3D
REFRESH-INTERVAL:P3D
CALSCALE:GREGORIAN
BEGIN:VEVENT
DTSTART:20180214T013000Z
DTEND:20180214T043000Z
X-MICROSOFT-CDO-ALLDAYEVENT:FALSE
SUMMARY:SCORE Workshop Building an eCommerce Site on WordPress
DESCRIPTION:Dive in and learn what it takes to build and run a successful eCommerce site on WordPress. Topics include:\n\n	Website design\n	Hosting & security\n	Credit card gateways and the purchasing process\n	PCI compliance\n	Shopping carts and Woo Commerce\n	Adding functionality: shipping\, taxes\, subscriptions\, and more\n	Search Engine Optimization strategies\n	Social media and content strategies\n	Analytics and measuring success\n\nMark Raymond\, who also presents "Branding and Website Design"\, is a seasoned executive with deep marketing and technical expertise.
X-ALT-DESC;FMTTYPE=text/html:<span style="font-family:arial\;"><span style="font-size:10.0pt\;">Dive in and learn what it takes to build and run a successful eCommerce site on WordPress. Topics include:</span></span>\n<ul>\n	<li><span style="font-family:arial\;"><span style="font-size:10.0pt\;">Website design</span></span></li>\n	<li><span style="font-family:arial\;"><span style="font-size:10.0pt\;">Hosting &amp\; security</span></span></li>\n	<li><span style="font-family:arial\;"><span style="font-size:10.0pt\;">Credit card gateways and the purchasing process</span></span></li>\n	<li><span style="font-family:arial\;"><span style="font-size:10.0pt\;">PCI compliance</span></span></li>\n	<li><span style="font-family:arial\;"><span style="font-size:10.0pt\;">Shopping carts and Woo Commerce</span></span></li>\n	<li><span style="font-family:arial\;"><span style="font-size:10.0pt\;">Adding functionality: shipping\, taxes\, subscriptions\, and more</span></span></li>\n	<li><span style="font-family:arial\;"><span style="font-size:10.0pt\;">Search Engine Optimization strategies</span></span></li>\n	<li><span style="font-family:arial\;"><span style="font-size:10.0pt\;">Social media and content strategies</span></span></li>\n	<li><span style="font-family:arial\;"><span style="font-size:10.0pt\;">Analytics and measuring success</span></span></li>\n</ul>\n<span style="font-family:arial\;">Mark Raymond<span style="font-size:10.0pt\;">\, who also presents &quot\;Branding and Website Design&quot\;\, is a seasoned executive with deep marketing and technical expertise.</span></span>
LOCATION:La Habra Community Center 101 W La Habra Blvd La Habra\, CA 90631
UID:e.887.17735
SEQUENCE:3
DTSTAMP:20260421T183539Z
URL:https://nocchamber-gzcms.preview.gochambermaster.com/events/details/score-workshop-building-an-ecommerce-site-on-wordpress-17735
END:VEVENT

END:VCALENDAR
