BEGIN:VCALENDAR
VERSION:2.0
PRODID:-//ChamberMaster//Event Calendar 2.0//EN
METHOD:PUBLISH
X-PUBLISHED-TTL:P3D
REFRESH-INTERVAL:P3D
CALSCALE:GREGORIAN
BEGIN:VEVENT
DTSTART:20171006T010000Z
DTEND:20171006T040000Z
X-MICROSOFT-CDO-ALLDAYEVENT:FALSE
SUMMARY:SCORE Workshop Basics Of Accounting: The Language of Business
DESCRIPTION:Accounting is the "language of business".  People in the business world - owners\, managers\, bankers\, investors - use accounting terms and concepts to describe the events that make up the "story" of a business.  At its most fundamental level\, accounting is the system of tracking the income\, expenses\, assets and liabilities of your business.  \n\n\n\nIn this workshop\, you will learn how to make journal entries including debits and credits\, the structure of financial statements\, important financial ratios\, ledgers\, and\, more importantly\, how to "account" for the transactions in your business.
X-ALT-DESC;FMTTYPE=text/html:<span style="color: rgb(0\, 0\, 0)\;"><span style="font-family: Arial\, Helvetica\, sans-serif\; font-size: 13.33px\;">Accounting is the &quot\;language of business&quot\;.&nbsp\;&nbsp\;People in the business world - owners\, managers\, bankers\, investors - use accounting terms and concepts to describe the events that make up the &ldquo\;story&rdquo\; of a business. &nbsp\;At its most fundamental level\, accounting is the system of tracking the income\, expenses\, assets and liabilities of your business. &nbsp\;<br />\n<br />\nIn this workshop\, you will learn how to make journal entries including debits and credits\, the structure of financial statements\, important financial ratios\, ledgers\, and\, more importantly\, how to &quot\;account&quot\; for the transactions in your business.</span></span>
LOCATION:Brea Chamber of Commerce Conference Center 1 Civic Center Circle 2nd Floor Brea\, CA 92821
UID:e.887.17345
SEQUENCE:3
DTSTAMP:20260421T012434Z
URL:https://nocchamber-gzcms.preview.gochambermaster.com/events/details/score-workshop-basics-of-accounting-the-language-of-business-17345
END:VEVENT

END:VCALENDAR
