BEGIN:VCALENDAR
VERSION:2.0
PRODID:-//ChamberMaster//Event Calendar 2.0//EN
METHOD:PUBLISH
X-PUBLISHED-TTL:P3D
REFRESH-INTERVAL:P3D
CALSCALE:GREGORIAN
BEGIN:VEVENT
DTSTART:20161027T170000Z
DTEND:20161027T203000Z
X-MICROSOFT-CDO-ALLDAYEVENT:FALSE
SUMMARY:SCORE Workshop - 15 Steps to Protect & Grow Your Business
DESCRIPTION:In this workshop we'll focus on 15 Technology Tips to improve security\, team collaboration and save you money.\n\n\n\nDave Seibert is an IT expert with over 30 years of experience presents this workshop.
X-ALT-DESC;FMTTYPE=text/html:In this workshop we&#39\;ll focus on 15 Technology Tips to improve security\, team collaboration and save you money.<br />\n<br />\nDave Seibert is an IT expert with over 30 years of experience presents this workshop.&nbsp\;
LOCATION:Fullerton Public Library Main Branch 353 W. Commonwealth Ave. Fullerton\, CA 92832
UID:e.887.15490
SEQUENCE:3
DTSTAMP:20260422T101003Z
URL:https://nocchamber-gzcms.preview.gochambermaster.com/events/details/score-workshop-15-steps-to-protect-grow-your-business-15490
END:VEVENT

END:VCALENDAR
