BEGIN:VCALENDAR
VERSION:2.0
PRODID:-//ChamberMaster//Event Calendar 2.0//EN
METHOD:PUBLISH
X-PUBLISHED-TTL:P3D
REFRESH-INTERVAL:P3D
CALSCALE:GREGORIAN
BEGIN:VEVENT
DTSTART:20150107T210000Z
DTEND:20150107T230000Z
X-MICROSOFT-CDO-ALLDAYEVENT:FALSE
SUMMARY:SCORE: What You Need to Know About Schedule C & Other Small Business Taxes & Tax Forms
DESCRIPTION:You are invited to attend a free Small Business Tax presentation by an enrolled agent who is speaking on behalf of the IRS.\n\n \n\nWhat we will cover:  \n\n\n	An overview of Form 1040\, Schedule C\, Profit or Loss From Business \n	Learn how to calculate gross profit and gross income\n	Learn how to identify and deduct expenses \n	Learn how to calculate net profit or loss. \n\n \n\nWe will also discuss how to determine whether the Form 1040\, Schedule C EZ\, Net Profit from Business\, should be filed instead of the Schedule C as well as some areas on Form 1040\, US Individual Income Tax Return\, which may be of interest to small business owners.
X-ALT-DESC;FMTTYPE=text/html:<span style="color:#265288\;"><span style="font-family:arial\,sans-serif\;">You are invited to attend a free Small Business Tax presentation by an enrolled agent who is speaking on behalf of the IRS.</span></span><br />\n&nbsp\;<br />\n<span style="color:#265288\;"><span style="font-family:arial\,sans-serif\;">What we will cover: &nbsp\;</span></span>\n\n<ul>\n	<li style="color:#265288\;"><span style="font-family:arial\,sans-serif\;">An overview of Form 1040\, Schedule C\, Profit or Loss From Business </span></li>\n	<li style="color:#265288\;"><span style="font-family:arial\,sans-serif\;">Learn how to calculate gross profit and gross income</span></li>\n	<li style="color:#265288\;"><span style="font-family:arial\,sans-serif\;">Learn how to identify and deduct expenses </span></li>\n	<li style="color:#265288\;"><span style="font-family:arial\,sans-serif\;">Learn how to calculate net profit or loss. </span></li>\n</ul>\n&nbsp\;<br />\n<span style="color:#265288\;"><span style="font-family:arial\,sans-serif\;"><span style="font-size:12.0pt\;">We will also discuss how to determine whether the Form 1040\, Schedule C EZ\, Net Profit from Business\, should be filed instead of the Schedule C as well as some areas on Form 1040\, US Individual Income Tax Return\, which may be of interest to small business owners.</span></span></span>
LOCATION:Mission Viejo City Hall\, Saddleback Room\, 200 Civic Center\, Mission Viejo
UID:e.887.10311
SEQUENCE:3
DTSTAMP:20260425T030002Z
URL:https://nocchamber-gzcms.preview.gochambermaster.com/events/details/score-what-you-need-to-know-about-schedule-c-other-small-business-taxes-tax-forms-10311
END:VEVENT

END:VCALENDAR
