BEGIN:VCALENDAR
VERSION:2.0
PRODID:-//ChamberMaster//Event Calendar 2.0//EN
METHOD:PUBLISH
X-PUBLISHED-TTL:P3D
REFRESH-INTERVAL:P3D
CALSCALE:GREGORIAN
BEGIN:VEVENT
DTSTART:20180806T180000Z
DTEND:20180806T200000Z
X-MICROSOFT-CDO-ALLDAYEVENT:FALSE
SUMMARY:SCORE Webinar - Create More Personalized Email Messages for Better Results
DESCRIPTION:SCORE Webinar will be hosting Create More Personalized Email Messages for Better Results: \n\n	Understanding personalization of email campaigns\n	Adding simple personalization to emails\n	How to personalize based on knowing subscribed audiences
X-ALT-DESC;FMTTYPE=text/html:<span style="background:white\;"><span style="color:#333333\;"><span style="font-family:arial\,sans-serif\;"><span style="font-size:10.0pt\;">SCORE Webinar will be hosting <strong>Create More Personalized Email Messages for Better Results</strong>: </span></span></span></span>\n<ul>\n	<li>Understanding personalization of email campaigns</li>\n	<li>Adding simple personalization to emails</li>\n	<li>How to personalize based on knowing subscribed audiences</li>\n</ul>\n
LOCATION:Click here to register for the webinar
UID:e.887.22662
SEQUENCE:3
DTSTAMP:20260422T100742Z
URL:https://nocchamber-gzcms.preview.gochambermaster.com/events/details/score-webinar-create-more-personalized-email-messages-for-better-results-22662
END:VEVENT

END:VCALENDAR
