BEGIN:VCALENDAR
VERSION:2.0
PRODID:-//ChamberMaster//Event Calendar 2.0//EN
METHOD:PUBLISH
X-PUBLISHED-TTL:P3D
REFRESH-INTERVAL:P3D
CALSCALE:GREGORIAN
BEGIN:VEVENT
DTSTART:20140926T010000Z
DTEND:20140926T040000Z
X-MICROSOFT-CDO-ALLDAYEVENT:FALSE
SUMMARY:SCORE: Secrets to Buying a Franchise
DESCRIPTION:You will learn how to evaluate starting a franchise vs. an independent business vs. buying an existing business\; the best types of franchises to open in today's economy\; the myths about franchising\; the costs to start a franchise\; how to research a franchise to make sure it's the right choice\; how to decide which franchises are best for you\; what mistakes to avoid when choosing and researching a franchise\; negotiation issues\; California laws & common issues\; legal documents\, e.g. disclosure document and franchise agreement.
X-ALT-DESC;FMTTYPE=text/html:<span style="color:#000000\;"><span style="font-family:arial\,sans-serif\;"><span style="font-size:10.0pt\;">You will learn how to evaluate starting a franchise vs. an independent business vs. buying an existing business\; the best types of franchises to open in today&#39\;s economy\; the myths about franchising\; the costs to start a franchise\; how to research a franchise to make sure it&#39\;s the right choice\; how to decide which franchises are best for you\; what mistakes to avoid when choosing and researching a franchise\; negotiation issues\; California laws &amp\; common issues\; legal documents\, e.g. disclosure document and franchise agreement.&nbsp\;</span></span></span>
LOCATION:Digital Media Center\, 1300 S. Bristol\, Santa Ana
UID:e.887.9937
SEQUENCE:3
DTSTAMP:20260425T141315Z
URL:https://nocchamber-gzcms.preview.gochambermaster.com/events/details/score-secrets-to-buying-a-franchise-9937
END:VEVENT

END:VCALENDAR
