BEGIN:VCALENDAR
VERSION:2.0
PRODID:-//ChamberMaster//Event Calendar 2.0//EN
METHOD:PUBLISH
X-PUBLISHED-TTL:P3D
REFRESH-INTERVAL:P3D
CALSCALE:GREGORIAN
BEGIN:VEVENT
DTSTART:20150326T170000Z
DTEND:20150326T200000Z
X-MICROSOFT-CDO-ALLDAYEVENT:FALSE
SUMMARY:SCORE: Look at New Technology to Reduce IT Costs and Grow
DESCRIPTION:Are you looking for a way to be more mobile and to look like a bigger company than you are? Learn how the latest technology helps businesses grow and cut IT costs. Learn how to set up a business with cost justification at the forefront.
X-ALT-DESC;FMTTYPE=text/html:<span style="font-family:arial\,sans-serif\;"><span style="font-size:10.0pt\;">Are you looking for a way to be more mobile and to look like a bigger company than you are? Learn how the latest technology helps businesses grow and cut IT costs. Learn how to set up a business with cost justification at the forefront. &nbsp\;&nbsp\;</span></span>
LOCATION:Fullerton Public Library\, 353 W. Commonwealth Ave.\, Fullerton
UID:e.887.10684
SEQUENCE:3
DTSTAMP:20260425T001435Z
URL:https://nocchamber-gzcms.preview.gochambermaster.com/events/details/score-look-at-new-technology-to-reduce-it-costs-and-grow-10684
END:VEVENT

END:VCALENDAR
