BEGIN:VCALENDAR
VERSION:2.0
PRODID:-//ChamberMaster//Event Calendar 2.0//EN
METHOD:PUBLISH
X-PUBLISHED-TTL:P3D
REFRESH-INTERVAL:P3D
CALSCALE:GREGORIAN
BEGIN:VEVENT
DTSTART:20190124T180000Z
DTEND:20190124T193000Z
X-MICROSOFT-CDO-ALLDAYEVENT:FALSE
SUMMARY:SCORE LIVE Webinars - The Power of Tiny Marketing Actions
DESCRIPTION:SCORE LIVE Webinars - The Power of Tiny Marketing Actions: \n\n	Identifying best marketing channels\n	Unique marketing tactics for business and audience\n	Tiny Marketing Actions (TMAs)\n	Planning and tracking TMAs
X-ALT-DESC;FMTTYPE=text/html:SCORE LIVE Webinars - The Power of Tiny Marketing Actions:&nbsp\;\n<ul>\n	<li>Identifying&nbsp\;best marketing channels</li>\n	<li>Unique marketing tactics for business and audience</li>\n	<li>Tiny Marketing Actions (TMAs)</li>\n	<li>Planning and tracking TMAs</li>\n</ul>\n
LOCATION:Online
UID:e.887.22932
SEQUENCE:3
DTSTAMP:20260423T171203Z
URL:https://nocchamber-gzcms.preview.gochambermaster.com/events/details/score-live-webinars-the-power-of-tiny-marketing-actions-22932
END:VEVENT

END:VCALENDAR
