BEGIN:VCALENDAR
VERSION:2.0
PRODID:-//ChamberMaster//Event Calendar 2.0//EN
METHOD:PUBLISH
X-PUBLISHED-TTL:P3D
REFRESH-INTERVAL:P3D
CALSCALE:GREGORIAN
BEGIN:VEVENT
DTSTART:20141205T013000Z
DTEND:20141205T043000Z
X-MICROSOFT-CDO-ALLDAYEVENT:FALSE
SUMMARY:SCORE: Hiring Made Easy
DESCRIPTION:Hiring the right person is the key to success to any business. In a recent study it was estimated that it costs over $65\,000 to hire one 25K level employee. With that much money at stake you can't afford to be wrong. Two of the Top Five reasons for a business to fail directly relate to interviewing and hiring properly. The majority of businesses large and small do less than a decent job in hiring which ends up costing their businesses loss of sales\, upset customers and creating internal frustrations as well as potential lawsuits. You will leave this workshop with far more confidence in how to find\, interview\, hire\, motivate\, compensate and avoid or prevent lawsuits. Doing it wrong can cost you tens of thousands of dollars. You will learn how to do it right and recruit & keep the best staff members.\n\nSubjects covered:\n\n\n	What Are You Looking For?\n	Creating Job Descriptions & Ads\n	Resumes\n	Finding The Applicants\n	Questions To Ask\n	Interview Stoppers\n	Testing\n	References\n	Making An Offer\n	Motivating Employees\n\nTerminations
X-ALT-DESC;FMTTYPE=text/html:<span style="font-family:arial\,sans-serif\;"><span style="font-size:10.0pt\;">Hiring the right person is the key to success to any business. In a recent study it was estimated that it costs over $65\,000 to hire one 25K level employee. With that much money at stake you can&#39\;t afford to be wrong. Two of the Top Five reasons for a business to fail directly relate to interviewing and hiring properly. The majority of businesses large and small do less than a decent job in hiring which ends up costing their businesses loss of sales\, upset customers and creating internal frustrations as well as potential lawsuits. You will leave this workshop with far more confidence in how to find\, interview\, hire\, motivate\, compensate and avoid or prevent lawsuits. Doing it wrong can cost you tens of thousands of dollars. You will learn how to do it right and recruit &amp\; keep the best staff members.</span></span><br />\n<strong><span style="font-family:arial\,sans-serif\;"><span style="font-size:10.0pt\;">Subjects covered:</span></span></strong>\n\n<ul>\n	<li style="color:#265288\;text-align:justify\;"><span style="font-family:arial\,sans-serif\;"><span style="font-size:10.0pt\;">What Are You Looking For?</span></span></li>\n	<li style="color:#265288\;text-align:justify\;"><span style="font-family:arial\,sans-serif\;"><span style="font-size:10.0pt\;">Creating Job Descriptions &amp\; Ads</span></span></li>\n	<li style="color:#265288\;text-align:justify\;"><span style="font-family:arial\,sans-serif\;"><span style="font-size:10.0pt\;">Resumes</span></span></li>\n	<li style="color:#265288\;text-align:justify\;"><span style="font-family:arial\,sans-serif\;"><span style="font-size:10.0pt\;">Finding The Applicants</span></span></li>\n	<li style="color:#265288\;text-align:justify\;"><span style="font-family:arial\,sans-serif\;"><span style="font-size:10.0pt\;">Questions To Ask</span></span></li>\n	<li style="color:#265288\;text-align:justify\;"><span style="font-family:arial\,sans-serif\;"><span style="font-size:10.0pt\;">Interview Stoppers</span></span></li>\n	<li style="color:#265288\;text-align:justify\;"><span style="font-family:arial\,sans-serif\;"><span style="font-size:10.0pt\;">Testing</span></span></li>\n	<li style="color:#265288\;text-align:justify\;"><span style="font-family:arial\,sans-serif\;"><span style="font-size:10.0pt\;">References</span></span></li>\n	<li style="color:#265288\;text-align:justify\;"><span style="font-family:arial\,sans-serif\;"><span style="font-size:10.0pt\;">Making An Offer</span></span></li>\n	<li style="color:#265288\;text-align:justify\;"><span style="font-family:arial\,sans-serif\;"><span style="font-size:10.0pt\;">Motivating Employees</span></span></li>\n</ul>\n<span style="font-family:arial\,sans-serif\;"><span style="font-size:10.0pt\;">Terminations</span></span>
LOCATION:Irvine Heritage Park\, Regional Branch\, Orange County Public Library\, 14361 Yale Ave.\, Irvine
UID:e.887.10257
SEQUENCE:3
DTSTAMP:20260425T041207Z
URL:https://nocchamber-gzcms.preview.gochambermaster.com/events/details/score-hiring-made-easy-10257
END:VEVENT

END:VCALENDAR
