BEGIN:VCALENDAR
VERSION:2.0
PRODID:-//ChamberMaster//Event Calendar 2.0//EN
METHOD:PUBLISH
X-PUBLISHED-TTL:P3D
REFRESH-INTERVAL:P3D
CALSCALE:GREGORIAN
BEGIN:VEVENT
DTSTART:20150131T173000Z
DTEND:20150131T223000Z
X-MICROSOFT-CDO-ALLDAYEVENT:FALSE
SUMMARY:SCORE: Facebook for Business
DESCRIPTION:Part 1 starts the day at 9:30 AM with Social Media Marketing For Business (No-charge) In Part 1 we will review best practices\, strategies\, real world examples and offer ideas to show you how Social Media Marketing is a cost effective marketing tool.\n\n \n\nPart 2 will begin at 11:00 am - Participants must attend Part 1\n\nRoll up your sleeves a dive into Facebook For Business Hands-on (Bring Your Laptop) Workshop. ($139. Includes lunch)    \n\n \n\nHow can you stand out on Facebook? Organic reach on Facebook has changed. Posting and simply having a business page is no longer enough for your business. This introductory workshop will help you understand how to use Facebook pages for business. \n\n \n\nBring your laptop! You will have time to work on your Facebook page while Dave and MJ are there to help you\n\n \n\nImportant: You will need to have a Facebook account set up prior to the workshop.If you do not have a Facebook account you can sign up at www.facebook.com. Please bring your user name and password to access your Facebook account.  \n\n \n\n Please bring:  \n\n\n	A fully charged laptop with WIFI capability\n	Images you wish to post\n	Your company logo\n\nPaper & pen for taking Notes
X-ALT-DESC;FMTTYPE=text/html:<strong><span style="color:#265288\;"><span style="font-family:arial\,sans-serif\;"><span style="font-size:10.0pt\;">Part 1 starts the day at 9:30 AM</span></span></span></strong><span style="color:#265288\;"><span style="font-family:arial\,sans-serif\;"><span style="font-size:10.0pt\;"> with <strong>Social Media Marketing For Business (No-charge)</strong> In Part 1 we will review best practices\, strategies\, real world examples and offer ideas to show you how Social Media Marketing is a cost effective marketing tool.</span></span></span><br />\n&nbsp\;<br />\n<strong><span style="color:#265288\;"><span style="font-family:arial\,sans-serif\;"><span style="font-size:10.0pt\;">Part 2 will begin at 11:00 am - Participants must attend Part 1</span></span></span></strong><br />\n<span style="color:#265288\;"><span style="font-family:arial\,sans-serif\;"><span style="font-size:10.0pt\;">Roll up your sleeves a dive into Facebook For Business Hands-on (Bring Your Laptop) Workshop.<strong> ($139. Includes <strong>lunch)</strong></strong>&nbsp\;&nbsp\; &nbsp\;</span></span></span><br />\n&nbsp\;<br />\n<span style="color:#265288\;"><span style="font-family:arial\,sans-serif\;"><span style="font-size:10.0pt\;">How can you stand out on Facebook? Organic reach on Facebook has changed. Posting and simply having a business page is no longer enough for your business. This introductory workshop will help you understand how to use Facebook pages for business.&nbsp\;</span></span></span><br />\n&nbsp\;<br />\n<strong><span style="color:#265288\;"><span style="font-family:arial\,sans-serif\;"><span style="font-size:10.0pt\;">Bring your laptop!</span></span></span></strong><span style="color:#265288\;"><span style="font-family:arial\,sans-serif\;"><span style="font-size:10.0pt\;"> You will have time to work on your Facebook page while Dave and MJ are there to help you</span></span></span><br />\n&nbsp\;<br />\n<strong><span style="color:#265288\;"><span style="font-family:arial\,sans-serif\;"><span style="font-size:10.0pt\;">Important: You will need to have a Facebook account set up prior to the workshop.</span></span></span></strong><span style="color:#265288\;"><span style="font-family:arial\,sans-serif\;"><span style="font-size:10.0pt\;">If you do not have a Facebook account you can sign up at <a href="http://www.facebook.com">www.facebook.com</a>. Please bring your user name and password to access your Facebook account. &nbsp\;</span></span></span><br />\n&nbsp\;<br />\n<span style="color:#265288\;"><span style="font-family:arial\,sans-serif\;"><span style="font-size:10.0pt\;">&nbsp\;<strong>Please bring:</strong> &nbsp\;</span></span></span>\n\n<ul>\n	<li style="color:#265288\;text-align:justify\;"><span style="font-family:arial\,sans-serif\;"><span style="font-size:10.0pt\;">A fully charged laptop with WIFI capability</span></span></li>\n	<li style="color:#265288\;text-align:justify\;"><span style="font-family:arial\,sans-serif\;"><span style="font-size:10.0pt\;">Images you wish to post</span></span></li>\n	<li style="color:#265288\;text-align:justify\;"><span style="font-family:arial\,sans-serif\;"><span style="font-size:10.0pt\;">Your company logo</span></span></li>\n</ul>\n<span style="color:#265288\;"><span style="font-family:arial\,sans-serif\;"><span style="font-size:10.0pt\;">Paper &amp\; pen for taking Notes</span></span></span>
LOCATION:National University\, 3390 Harbor Blvd.\, Costa Mesa
UID:e.887.10377
SEQUENCE:3
DTSTAMP:20260425T025552Z
URL:https://nocchamber-gzcms.preview.gochambermaster.com/events/details/score-facebook-for-business-10377
END:VEVENT

END:VCALENDAR
