BEGIN:VCALENDAR
VERSION:2.0
PRODID:-//ChamberMaster//Event Calendar 2.0//EN
METHOD:PUBLISH
X-PUBLISHED-TTL:P3D
REFRESH-INTERVAL:P3D
CALSCALE:GREGORIAN
BEGIN:VEVENT
DTSTART:20150318T003000Z
DTEND:20150318T033000Z
X-MICROSOFT-CDO-ALLDAYEVENT:FALSE
SUMMARY:SCORE: Email Marketing\, Simple Strategies for Success
DESCRIPTION:This workshop is designed to give small businesses and nonprofit organizations some simple ideas for growing their organizations using email marketing. We'll take a comprehensive look at best practices and winning strategies for getting and keeping quality subscribers\, increasing deliverability and open rates\, writing good headlines and content\, saving time\, getting readers to take action\, and more\, like:  \n\n\n	What Email Marketing is and how it works\n	60 Ways to grow your email contact list\n	Mobile-friendly Emails\n	Email Marketing Trends\n	How often to send\n	Subject lines\n	Content\n	Real world examples of other businesses doing it well\n	How to reduce unsubscribes/spam complaints\n	How to leverage social media\n\n \n\nWe will also discuss what it means to run a campaign and tactics for measuring success without spending a lot of time or money. All levels are welcome (even if you haven't tried email marketing yet). Those who have been doing email marketing for years have walked away with new ideas.
X-ALT-DESC;FMTTYPE=text/html:<span style="font-family:arial\,sans-serif\;"><span style="font-size:10.0pt\;">This workshop is designed to give small businesses and nonprofit organizations some simple ideas for growing their organizations using email marketing. We&#39\;ll take a comprehensive look at best practices and winning strategies for getting and keeping quality subscribers\, increasing deliverability and open rates\, writing good headlines and content\, saving time\, getting readers to take action\, and more\, like: &nbsp\;</span></span>\n\n<ul>\n	<li style="color:#265288\;text-align:justify\;"><span style="font-family:arial\,sans-serif\;"><span style="font-size:10.0pt\;">What Email Marketing is and how it works</span></span></li>\n	<li style="color:#265288\;text-align:justify\;"><span style="font-family:arial\,sans-serif\;"><span style="font-size:10.0pt\;">60 Ways to grow your email contact list</span></span></li>\n	<li style="color:#265288\;text-align:justify\;"><span style="font-family:arial\,sans-serif\;"><span style="font-size:10.0pt\;">Mobile-friendly Emails</span></span></li>\n	<li style="color:#265288\;text-align:justify\;"><span style="font-family:arial\,sans-serif\;"><span style="font-size:10.0pt\;">Email Marketing Trends</span></span></li>\n	<li style="color:#265288\;text-align:justify\;"><span style="font-family:arial\,sans-serif\;"><span style="font-size:10.0pt\;">How often to send</span></span></li>\n	<li style="color:#265288\;text-align:justify\;"><span style="font-family:arial\,sans-serif\;"><span style="font-size:10.0pt\;">Subject lines</span></span></li>\n	<li style="color:#265288\;text-align:justify\;"><span style="font-family:arial\,sans-serif\;"><span style="font-size:10.0pt\;">Content</span></span></li>\n	<li style="color:#265288\;text-align:justify\;"><span style="font-family:arial\,sans-serif\;"><span style="font-size:10.0pt\;">Real world examples of other businesses doing it well</span></span></li>\n	<li style="color:#265288\;text-align:justify\;"><span style="font-family:arial\,sans-serif\;"><span style="font-size:10.0pt\;">How to reduce unsubscribes/spam complaints</span></span></li>\n	<li style="color:#265288\;text-align:justify\;"><span style="font-family:arial\,sans-serif\;"><span style="font-size:10.0pt\;">How to leverage social media</span></span></li>\n</ul>\n&nbsp\;<br />\n<span style="font-family:arial\,sans-serif\;"><span style="font-size:10.0pt\;">We will also discuss what it means to run a campaign and tactics for measuring success without spending a lot of time or money. All levels are welcome (even if you haven&#39\;t tried email marketing yet). Those who have been doing email marketing for years have walked away with new ideas.</span></span>
LOCATION:Aliso Viejo Branch\, Orange County Public Library\, 1 Journey\, Aliso Viejo. Allow extra time for parking.
UID:e.887.10665
SEQUENCE:3
DTSTAMP:20260425T001430Z
URL:https://nocchamber-gzcms.preview.gochambermaster.com/events/details/score-email-marketing-simple-strategies-for-success-10665
END:VEVENT

END:VCALENDAR
