BEGIN:VCALENDAR
VERSION:2.0
PRODID:-//ChamberMaster//Event Calendar 2.0//EN
METHOD:PUBLISH
X-PUBLISHED-TTL:P3D
REFRESH-INTERVAL:P3D
CALSCALE:GREGORIAN
BEGIN:VEVENT
DTSTART:20141204T170000Z
DTEND:20141204T213000Z
X-MICROSOFT-CDO-ALLDAYEVENT:FALSE
SUMMARY:SCORE: Create Online Campaigns That Work
DESCRIPTION:Part 1 starts the day at 9:00 AM with Social Media & Email Promotions (No-charge)  Rock your holiday season by learning to reach out to your customers\, get leads\, and boost repeat and referral business! Whether you are a retail shop\, sell business-to-business or have a nonprofit\, this workshop will provide simple\, practical tips for using social media\, promotions and campaigns to close out 2014 on a high note.   \n\n \n\nPart 2 will begin at 10:30 AM - Participants must attend Part 1\n\nRoll up your sleeves and dive into Create Online Campaigns That Work Hands-on Bootcamp ($139.00 includes lunch)     \n\n \n\nBring your laptop and set up your upcoming online promotions for the holidays and beyond with help from Liz Harsch\, Small Business Marketing Consultant since 1988. Also bring your logins (Website\, Social Media\, Blog & Email) and Liz will help you :\n\n\n	Strategize and Create & Plan your Upcoming Online Campaigns\n	Organize and Create your Social Media Posts To Maximize Your Reach\n	Brainstorm On Improving Your Current Plan With Online Tools\n	Implement Your Strategy Using Social Media Platforms  \n	Determine Additional Social Media\, Hashtags\, Posts\, Images To Help\n	Spread The Word Using Email Marketing\, Social Media\, Online Listing & Media Mix \n\nHow to create and manage a campaign for the holidays and beyond. Use your logins\, passwords and some online tools like Facebook\, Pinterest\, Twitter\, Email Marketing\, Event Marketing & Social Campaigns.
X-ALT-DESC;FMTTYPE=text/html:<strong><span style="font-family:arial\,sans-serif\;"><span style="font-size:10.0pt\;">Part 1 starts the day at 9:00 AM </span></span></strong><span style="font-family:arial\,sans-serif\;"><span style="font-size:10.0pt\;">with Social Media &amp\; Email Promotions <strong>(No-charge)</strong>&nbsp\; Rock your holiday season by learning to reach out to your customers\, get leads\, and boost repeat and referral business! Whether you are a retail shop\, sell business-to-business or have a nonprofit\, this workshop will provide simple\, practical tips for using social media\, promotions and campaigns to close out 2014 on a high note. &nbsp\;&nbsp\;</span></span><br />\n&nbsp\;<br />\n<strong><span style="font-family:arial\,sans-serif\;"><span style="font-size:10.0pt\;">Part 2 will begin at 10:30 AM - Participants must attend Part 1</span></span></strong><br />\n<span style="font-family:arial\,sans-serif\;"><span style="font-size:10.0pt\;">Roll up your sleeves and dive into Create Online Campaigns That Work Hands-on Bootcamp <strong>($139.00 includes lunch)&nbsp\; &nbsp\;</strong> &nbsp\;</span></span><br />\n&nbsp\;<br />\n<strong><span style="font-family:arial\,sans-serif\;"><span style="font-size:10.0pt\;">Bring your laptop and set up your upcoming online promotions for the holidays and beyond</span></span></strong><span style="font-family:arial\,sans-serif\;"><span style="font-size:10.0pt\;"> with help from Liz Harsch\, Small Business Marketing Consultant since 1988. <strong>Also bring your logins (Website\, Social Media\, Blog &amp\; Email) and Liz will help you :</strong></span></span>\n\n<ul>\n	<li style="color:#265288\;text-align:justify\;"><span style="font-family:arial\,sans-serif\;"><span style="font-size:10.0pt\;">Strategize and Create &amp\; Plan your Upcoming Online Campaigns</span></span></li>\n	<li style="color:#265288\;text-align:justify\;"><span style="font-family:arial\,sans-serif\;"><span style="font-size:10.0pt\;">Organize and Create your Social Media Posts To Maximize Your Reach</span></span></li>\n	<li style="color:#265288\;text-align:justify\;"><span style="font-family:arial\,sans-serif\;"><span style="font-size:10.0pt\;">Brainstorm On Improving Your Current Plan With Online Tools</span></span></li>\n	<li style="color:#265288\;text-align:justify\;"><span style="font-family:arial\,sans-serif\;"><span style="font-size:10.0pt\;">Implement Your Strategy Using Social Media Platforms &nbsp\;</span></span></li>\n	<li style="color:#265288\;text-align:justify\;"><span style="font-family:arial\,sans-serif\;"><span style="font-size:10.0pt\;">Determine Additional Social Media\, Hashtags\, Posts\, Images To Help</span></span></li>\n	<li style="color:#265288\;text-align:justify\;"><span style="font-family:arial\,sans-serif\;"><span style="font-size:10.0pt\;">Spread The Word Using Email Marketing\, Social Media\, Online Listing &amp\; Media Mix&nbsp\;</span></span></li>\n</ul>\n<span style="font-family:arial\,sans-serif\;"><span style="font-size:10.0pt\;">How to create and manage a campaign for the holidays and beyond. Use&nbsp\;your logins\, passwords and some online tools like Facebook\, Pinterest\, Twitter\, Email Marketing\, Event Marketing &amp\; Social Campaigns.</span></span>
LOCATION:National University\, 3390 Harbor Blvd.\, Costa Mesa
UID:e.887.10259
SEQUENCE:3
DTSTAMP:20260425T041207Z
URL:https://nocchamber-gzcms.preview.gochambermaster.com/events/details/score-create-online-campaigns-that-work-10259
END:VEVENT

END:VCALENDAR
