BEGIN:VCALENDAR
VERSION:2.0
PRODID:-//ChamberMaster//Event Calendar 2.0//EN
METHOD:PUBLISH
X-PUBLISHED-TTL:P3D
REFRESH-INTERVAL:P3D
CALSCALE:GREGORIAN
BEGIN:VEVENT
DTSTART:20140829T010000Z
DTEND:20140829T040000Z
X-MICROSOFT-CDO-ALLDAYEVENT:FALSE
SUMMARY:SCORE: Common Legal Questions for Start-Up Businesses
DESCRIPTION:DON'T MISS THIS WORKSHOP!! Here's your chance to get answers to your business legal questions without paying an arm and a leg.   \n\n \n\nNew business owners often have questions regarding the formalities required to get their business off the ground. This seminar assists the small business owner in determining the best legal structure for their business. In addition\, the seminar addresses the common types of contracts small business owners encounter and provides attendees with tips for entering contracts. Finally\, the seminar will also touch on protecting the intellectual property of a small business
X-ALT-DESC;FMTTYPE=text/html:<strong><span style="font-family:arial\,sans-serif\;"><span style="font-size:10.0pt\;">DON&#39\;T MISS THIS WORKSHOP!!</span></span></strong><span style="font-family:arial\,sans-serif\;"><span style="font-size:10.0pt\;"> Here&#39\;s your chance to get answers to your business legal questions without paying an arm and a leg.&nbsp\; &nbsp\;</span></span><br />\n&nbsp\;<br />\n<span style="font-family:arial\,sans-serif\;"><span style="font-size:10.0pt\;">New business owners often have questions regarding the formalities required to get their business off the ground. This seminar assists the small business owner in determining the best legal structure for their business. In addition\, the seminar addresses the common types of contracts small business owners encounter and provides attendees with tips for entering contracts. Finally\, the seminar will also touch on protecting the intellectual property of a small business &nbsp\;</span></span>
LOCATION:Digital Media Center\, 1300 S. Bristol\, Santa Ana\, CA
UID:e.887.8902
SEQUENCE:3
DTSTAMP:20260425T105226Z
URL:https://nocchamber-gzcms.preview.gochambermaster.com/events/details/score-common-legal-questions-for-start-up-businesses-8902
END:VEVENT

END:VCALENDAR
