BEGIN:VCALENDAR
VERSION:2.0
PRODID:-//ChamberMaster//Event Calendar 2.0//EN
METHOD:PUBLISH
X-PUBLISHED-TTL:P3D
REFRESH-INTERVAL:P3D
CALSCALE:GREGORIAN
BEGIN:VEVENT
DTSTART:20150324T160000Z
DTEND:20150324T190000Z
X-MICROSOFT-CDO-ALLDAYEVENT:FALSE
SUMMARY:SCORE: Building a Consulting Business
DESCRIPTION:Building a successful business starts with knowing who you are and having a strong conviction that you have the passion to be in business for yourself - not by yourself. The key is to build a solid foundation!  This interactive workshop will give you basic tools for mapping out a plan for a successful consulting business.  You will learn about the advantages and disadvantages of a consulting business\, how to do a self assessment\, how to value your service\, how to develop your pricing structure and many other issues that consultants need to address in developing a successful consulting business\, including a discussion on elevator speeches for consultants. This workshop is best for persons interested in starting a consulting practice.
X-ALT-DESC;FMTTYPE=text/html:<span style="font-family:arial\,sans-serif\;"><span style="font-size:10.0pt\;">Building a successful business starts with knowing who you are and having a strong conviction that you have the passion to be in business for yourself - not by yourself. The key is to build a solid foundation!&nbsp\; This interactive workshop will give you basic tools for mapping out a plan for a successful consulting business.&nbsp\; You will learn about the advantages and disadvantages of a consulting business\, how to do a self assessment\, how to value your service\, how to develop your pricing structure and many other issues that consultants need to address in developing a successful consulting business\, including a discussion on elevator speeches for consultants. This workshop is best for persons interested in starting a consulting practice. </span></span><span style="color:#265288\;"><span style="font-family:arial\,sans-serif\;"><span style="font-size:10.0pt\;">&nbsp\;</span></span></span>
LOCATION:National University\, 3390 Harbor Blvd.\, Costa Mesa
UID:e.887.10681
SEQUENCE:3
DTSTAMP:20260425T013501Z
URL:https://nocchamber-gzcms.preview.gochambermaster.com/events/details/score-building-a-consulting-business-10681
END:VEVENT

END:VCALENDAR
