BEGIN:VCALENDAR
VERSION:2.0
PRODID:-//ChamberMaster//Event Calendar 2.0//EN
METHOD:PUBLISH
X-PUBLISHED-TTL:P3D
REFRESH-INTERVAL:P3D
CALSCALE:GREGORIAN
BEGIN:VEVENT
DTSTART:20150206T013000Z
DTEND:20150206T043000Z
X-MICROSOFT-CDO-ALLDAYEVENT:FALSE
SUMMARY:SCORE: Build a Great Credit Score to get That Loan!
DESCRIPTION:Whether it's a personal loan\, business loan or any kind of credit\, your credit score is an important deciding factor. A better credit score could save you thousands of dollars in interest cost! The goal of the seminar is to dispel all the misinformation on the subject of credit. The workshop will equip the attendees with accurate and reliable information to help them make better financial decisions when obtaining an SBA loan\, and all type of credit. Furthermore\, attendees will leave the presentation understanding how to build\, improve\, and maintain a perfect credit scores to better manage and protect their credit reputation and potential.
X-ALT-DESC;FMTTYPE=text/html:<span style="color:#265288\;"><span style="font-family:arial\,sans-serif\;"><span style="font-size:12.0pt\;">Whether it&#39\;s a personal loan\, business loan or any kind of credit\, your credit score is an important deciding factor. A better credit score could save you thousands of dollars in interest cost! The goal of the seminar is to dispel all the misinformation on the subject of credit. The workshop will equip the attendees with accurate and reliable information to help them make better financial decisions when obtaining an </span></span></span><span style="font-family:arial\,sans-serif\;"><span style="font-size:12.0pt\;">SBA loan\, and all type of credit. Furthermore\, attendees will leave the presentation understanding how to build\, improve\, and maintain a perfect credit scores to better manage and protect their credit reputation and potential.</span></span>
LOCATION:Irvine Heritage Park branch\, orange county public library\, 14361 Yale Ave.\, Irvine
UID:e.887.10376
SEQUENCE:3
DTSTAMP:20260425T040352Z
URL:https://nocchamber-gzcms.preview.gochambermaster.com/events/details/score-build-a-great-credit-score-to-get-that-loan-10376
END:VEVENT

END:VCALENDAR
