BEGIN:VCALENDAR
VERSION:2.0
PRODID:-//ChamberMaster//Event Calendar 2.0//EN
METHOD:PUBLISH
X-PUBLISHED-TTL:P3D
REFRESH-INTERVAL:P3D
CALSCALE:GREGORIAN
BEGIN:VEVENT
DTSTART:20181026T010000Z
DTEND:20181026T030000Z
X-MICROSOFT-CDO-ALLDAYEVENT:FALSE
SUMMARY:SBDC - Public Law Center's Legal Workshop for Child Care Providers
DESCRIPTION:The SBDC is holding a Public Law Center's Legal Workshop for Child Care Providers:\n\n	Legal issues in initiating and operating a childcare business\n	Obtaining a childcare license\n	Practical considerations in the childcare business\n	Liability as a childcare provider\n	Accommodating children with special needs\n	Compliance with state and federal disability laws\n	Parent-provider contracts
X-ALT-DESC;FMTTYPE=text/html:The SBDC is holding a <strong>Public Law Center&#39\;s Legal Workshop for Child Care Providers</strong>:\n<ul>\n	<li>Legal issues in initiating and operating a childcare business</li>\n	<li>Obtaining a childcare license</li>\n	<li>Practical considerations in the childcare business</li>\n	<li>Liability as a childcare provider</li>\n	<li>Accommodating children with special needs</li>\n	<li>Compliance with state and federal disability laws</li>\n	<li>Parent-provider contracts</li>\n</ul>\n
LOCATION:Digital Media Center 1300 S. Bristol St.\, Room 103 Santa Ana\, CA 92704
UID:e.887.22782
SEQUENCE:3
DTSTAMP:20260422T223601Z
URL:https://nocchamber-gzcms.preview.gochambermaster.com/events/details/sbdc-public-law-center-s-legal-workshop-for-child-care-providers-22782
END:VEVENT

END:VCALENDAR
