BEGIN:VCALENDAR
VERSION:2.0
PRODID:-//ChamberMaster//Event Calendar 2.0//EN
METHOD:PUBLISH
X-PUBLISHED-TTL:P3D
REFRESH-INTERVAL:P3D
CALSCALE:GREGORIAN
BEGIN:VEVENT
DTSTART:20171221T173000Z
DTEND:20171221T193000Z
X-MICROSOFT-CDO-ALLDAYEVENT:FALSE
SUMMARY:SBA Small Business Certifications: 8(a)\, HUBZone\, and WOSB Application Webinar
DESCRIPTION:Small business certifications are like professional certifications: they document a special capability or status that help you compete in the marketplace. These certifications can help you pursue business opportunities with the federal government and prime contractors who often have goals to ensure small businesses are integrated into their purchasing and procurement efforts. At our Federal Contracting Certifications workshop\, we'll give an overview and demonstrate how to apply for the below certifications: \n\nWoman-Owned Small Business Set-Aside program\, the HUBZone program\, and the 8(a) Business Development Program. For all three programs\, we discuss the eligibility criteria\; the programmatic benefits for participants\; and the process to pursue the certification.
X-ALT-DESC;FMTTYPE=text/html:<span style="font-size: 14px\; color: rgb(10\, 26\, 31)\;">Small business certifications are like professional certifications: they document a special capability or status that help you compete in the marketplace. These certifications can help you pursue business opportunities with the federal government and prime contractors who often have goals to&nbsp\;ensure&nbsp\;small businesses are integrated into their purchasing and procurement efforts. At our Federal Contracting Certifications workshop\, we&#39\;ll give an overview and demonstrate how to apply for the below certifications:&nbsp\;</span><br style="font-size: 14px\;" />\n<span style="font-size: 14px\; font-weight: 700\; padding-top: 0px\; color: rgb(102\, 106\, 115)\; letter-spacing: 0.5px\;">Woman-Owned Small Business Set-Aside program\, the&nbsp\;HUBZone&nbsp\;program\, and the 8(a) Business Development Program</span><span style="font-size: 14px\; color: rgb(102\, 106\, 115)\; letter-spacing: 0.5px\;">.&nbsp\;<span style="font-family: arial\;">For all three programs\, we discuss the eligibility criteria\; the programmatic benefits for participants\; and the process to pursue the certification.</span></span><br style="font-size: 14px\;" />\n&nbsp\;
LOCATION:Pre-registration is required. Webinar login instructions will be sent to all registrants 48 hours prior to the webinar.
UID:e.887.17472
SEQUENCE:3
DTSTAMP:20260421T051128Z
URL:https://nocchamber-gzcms.preview.gochambermaster.com/events/details/sba-small-business-certifications-8-a-hubzone-and-wosb-application-webinar-17472
END:VEVENT

END:VCALENDAR
