BEGIN:VCALENDAR
VERSION:2.0
PRODID:-//ChamberMaster//Event Calendar 2.0//EN
METHOD:PUBLISH
X-PUBLISHED-TTL:P3D
REFRESH-INTERVAL:P3D
CALSCALE:GREGORIAN
BEGIN:VEVENT
DTSTART:20181016T150000Z
DTEND:20181016T233000Z
X-MICROSOFT-CDO-ALLDAYEVENT:FALSE
SUMMARY:SBA - Latinas in Business Conference
DESCRIPTION:The U.S. Small Business Administration will be hosting Latinas in Business Conference:\n\n	 Promoting personal and professional growth for business success among women in the Inland Empire\n	Speakers on business management\, leadership\n	Peer-to-peer networking opportunities\n	Promoting personal and professional growth for business success among women in the Inland Empire
X-ALT-DESC;FMTTYPE=text/html:<span style="font-size:14px\;"><span style="font-family:arial\;"><span style="background:white\;"><span style="color:#333333\;">The U.S. Small Business Administration will be hosting Latinas in Business Conference:</span></span></span></span>\n<ul>\n	<li><span style="font-size:14px\;"><span style="font-family:arial\;"><span style="color:#333333\;"><span style="background:white\;"><span style="font-variant-ligatures:normal\;font-variant-caps:normal\;orphans:2\;text-align:start\;widows:2\;-webkit-text-stroke-width:0px\;text-decoration-style:initial\;float:none\;word-spacing:0px\;">&#8203\;Promoting personal and professional growth for business success among women in the Inland Empire</span></span></span></span></span></li>\n	<li><span style="font-size:14px\;"><span style="font-family:arial\;"><span style="background:white\;"><span style="color:#333333\;">Speakers on business management\, leadership</span></span></span></span></li>\n	<li><span style="font-size:14px\;"><span style="font-family:arial\;"><span style="background:white\;"><span style="color:#333333\;">Peer-to-peer networking opportunities</span></span></span></span></li>\n	<li><span style="font-size:14px\;"><span style="font-family:arial\;">Promoting personal and professional growth for business success among women in the Inland Empire</span></span></li>\n</ul>\n
LOCATION:Central Park Community Center 11200 Baseline Rd. Rancho Cucamonga\, CA 91701
UID:e.887.22762
SEQUENCE:3
DTSTAMP:20260423T013108Z
URL:https://nocchamber-gzcms.preview.gochambermaster.com/events/details/sba-latinas-in-business-conference-22762
END:VEVENT

END:VCALENDAR
