BEGIN:VCALENDAR
VERSION:2.0
PRODID:-//ChamberMaster//Event Calendar 2.0//EN
METHOD:PUBLISH
X-PUBLISHED-TTL:P3D
REFRESH-INTERVAL:P3D
CALSCALE:GREGORIAN
BEGIN:VEVENT
DTSTART:20181204T190000Z
DTEND:20181204T200000Z
X-MICROSOFT-CDO-ALLDAYEVENT:FALSE
SUMMARY:Salon Meraki Ribbon Cutting
DESCRIPTION:Join us for a ribbon cutting ceremony to celebrate the grand opening of Salon Meraki in Downtown Fullerton on Tuesday\, December 4\, at 11:00 a.m.
X-ALT-DESC;FMTTYPE=text/html:<span style="color: rgb(68\, 68\, 68)\; font-family: arial\; font-size: 14px\;">Join us for a ribbon cutting ceremony to celebrate the grand opening of <a href="http://salonmerakidtf.com/" target="_blank">Salon Meraki</a> in Downtown Fullerton&nbsp\;</span><span style="color: rgb(68\, 68\, 68)\; font-family: arial\; font-size: 14px\;">on Tuesday\, December 4\, at 11:00 a.m.</span>
LOCATION:Salon Meraki 229 E. Commonwealth Ave.\, Suite B Fullerton\, CA 92832
UID:e.887.22865
SEQUENCE:3
DTSTAMP:20260423T194414Z
URL:https://nocchamber-gzcms.preview.gochambermaster.com/events/details/salon-meraki-ribbon-cutting-22865
END:VEVENT

END:VCALENDAR
