BEGIN:VCALENDAR
VERSION:2.0
PRODID:-//ChamberMaster//Event Calendar 2.0//EN
METHOD:PUBLISH
X-PUBLISHED-TTL:P3D
REFRESH-INTERVAL:P3D
CALSCALE:GREGORIAN
BEGIN:VEVENT
DTSTART:20140509T230000Z
DTEND:20140510T030000Z
X-MICROSOFT-CDO-ALLDAYEVENT:FALSE
SUMMARY:Roadkill Ranch & Boutique 21st Birthday Celebration
DESCRIPTION:Happy 21st Birthday Roadkill Ranch & Boutique! Celebrate with cupcakes\, champagne toast and 21% all merchandise!
X-ALT-DESC;FMTTYPE=text/html:Happy 21st Birthday Roadkill Ranch &amp\; Boutique! Celebrate with cupcakes\, champagne toast and 21% all merchandise!
LOCATION:119 E. Commonwealth Ave.
UID:e.887.8784
SEQUENCE:3
DTSTAMP:20260425T224709Z
URL:https://nocchamber-gzcms.preview.gochambermaster.com/events/details/roadkill-ranch-boutique-21st-birthday-celebration-8784
END:VEVENT

END:VCALENDAR
