BEGIN:VCALENDAR
VERSION:2.0
PRODID:-//ChamberMaster//Event Calendar 2.0//EN
METHOD:PUBLISH
X-PUBLISHED-TTL:P3D
REFRESH-INTERVAL:P3D
CALSCALE:GREGORIAN
BEGIN:VEVENT
DTSTART:20140328T230000Z
DTEND:20140329T000000Z
X-MICROSOFT-CDO-ALLDAYEVENT:FALSE
SUMMARY:Ribbon Cutting: Two Saucy Broads
DESCRIPTION:Join us at Two Saucy Broads for a ribbon cutting ceremony to celebrate their new location!
X-ALT-DESC;FMTTYPE=text/html:Join us at Two Saucy Broads for a ribbon cutting ceremony to celebrate their new location!
LOCATION:108 S. Highland Ave.
UID:e.887.8747
SEQUENCE:3
DTSTAMP:20260425T225323Z
URL:https://nocchamber-gzcms.preview.gochambermaster.com/events/details/ribbon-cutting-two-saucy-broads-8747
END:VEVENT

END:VCALENDAR
