BEGIN:VCALENDAR
VERSION:2.0
PRODID:-//ChamberMaster//Event Calendar 2.0//EN
METHOD:PUBLISH
X-PUBLISHED-TTL:P3D
REFRESH-INTERVAL:P3D
CALSCALE:GREGORIAN
BEGIN:VEVENT
DTSTART:20140110T000000Z
DTEND:20140110T010000Z
X-MICROSOFT-CDO-ALLDAYEVENT:FALSE
SUMMARY:Ribbon Cutting: Quad County HR & Focus CPA Group\, Inc.
DESCRIPTION:Join us at Quad County HR & Focus CPA Group\, Inc.  for a ribbon cutting ceremony at 4 p.m. to celebrate the opening of their new office!
X-ALT-DESC;FMTTYPE=text/html:Join us at Quad County HR &amp\; Focus CPA Group\, Inc.&nbsp\; for a ribbon cutting ceremony at 4 p.m. to celebrate the opening of their new office!
LOCATION:135 S. State College Blvd.\, Suite 351\, Brea.
UID:e.887.8665
SEQUENCE:3
DTSTAMP:20260426T040952Z
URL:https://nocchamber-gzcms.preview.gochambermaster.com/events/details/ribbon-cutting-quad-county-hr-8665
END:VEVENT

END:VCALENDAR
