BEGIN:VCALENDAR
VERSION:2.0
PRODID:-//ChamberMaster//Event Calendar 2.0//EN
METHOD:PUBLISH
X-PUBLISHED-TTL:P3D
REFRESH-INTERVAL:P3D
CALSCALE:GREGORIAN
BEGIN:VEVENT
DTSTART:20160220T143000Z
DTEND:20160220T160000Z
X-MICROSOFT-CDO-ALLDAYEVENT:FALSE
SUMMARY:Ribbon Cutting - Orchard Hardware Supply\, Buena Park
DESCRIPTION:Celebrate the grand opening of Orchard Hardware Supply's newest location in Buena Park!
X-ALT-DESC;FMTTYPE=text/html:Celebrate the grand opening of Orchard Hardware Supply&#39\;s newest location in Buena Park!
LOCATION:8060 Dale St\, Buena Park\, CA 90620
UID:e.887.14097
SEQUENCE:3
DTSTAMP:20260423T220738Z
URL:https://nocchamber-gzcms.preview.gochambermaster.com/events/details/ribbon-cutting-orchard-hardware-supply-buena-park-14097
END:VEVENT

END:VCALENDAR
