BEGIN:VCALENDAR
VERSION:2.0
PRODID:-//ChamberMaster//Event Calendar 2.0//EN
METHOD:PUBLISH
X-PUBLISHED-TTL:P3D
REFRESH-INTERVAL:P3D
CALSCALE:GREGORIAN
BEGIN:VEVENT
DTSTART:20140724T190000Z
DTEND:20140724T200000Z
X-MICROSOFT-CDO-ALLDAYEVENT:FALSE
SUMMARY:Ribbon Cutting: Orange County Emergency Pet Clinic
DESCRIPTION:Join us at the Orange County Emergency Pet Clinic Thursday\, July 24 at noon for a ribbon cutting ceremony to celebrate their new location!\n\n\n\nA BBQ hamburger and hot dog lunch will be served.
X-ALT-DESC;FMTTYPE=text/html:Join us at the Orange County Emergency Pet Clinic Thursday\, July 24 at noon for a ribbon cutting ceremony to celebrate their new location!<br />\n<br />\n<span new="" style="font-family:\;" times=""><font color="#000000">A BBQ hamburger and hot dog lunch will be served.</font></span>
LOCATION:3920 Harbor Blvd.\, Fullerton
UID:e.887.8855
SEQUENCE:3
DTSTAMP:20260425T150224Z
URL:https://nocchamber-gzcms.preview.gochambermaster.com/events/details/ribbon-cutting-orange-county-emergency-pet-clinic-8855
END:VEVENT

END:VCALENDAR
