BEGIN:VCALENDAR
VERSION:2.0
PRODID:-//ChamberMaster//Event Calendar 2.0//EN
METHOD:PUBLISH
X-PUBLISHED-TTL:P3D
REFRESH-INTERVAL:P3D
CALSCALE:GREGORIAN
BEGIN:VEVENT
DTSTART:20140711T230000Z
DTEND:20140712T000000Z
X-MICROSOFT-CDO-ALLDAYEVENT:FALSE
SUMMARY:Ribbon Cutting: Mr. BBQ
DESCRIPTION:Join us at Mr. BBQ for a ribbon cutting ceremony to celebrate its grand opening!
X-ALT-DESC;FMTTYPE=text/html:Join us at Mr. BBQ for a ribbon cutting ceremony to celebrate its grand opening!&nbsp\;
LOCATION:305 N. State College Blvd.\, Fullerton
UID:e.887.8850
SEQUENCE:3
DTSTAMP:20260425T121337Z
URL:https://nocchamber-gzcms.preview.gochambermaster.com/events/details/ribbon-cutting-mr-bbq-8850
END:VEVENT

END:VCALENDAR
