BEGIN:VCALENDAR
VERSION:2.0
PRODID:-//ChamberMaster//Event Calendar 2.0//EN
METHOD:PUBLISH
X-PUBLISHED-TTL:P3D
REFRESH-INTERVAL:P3D
CALSCALE:GREGORIAN
BEGIN:VEVENT
DTSTART:20150515T200000Z
DTEND:20150515T210000Z
X-MICROSOFT-CDO-ALLDAYEVENT:FALSE
SUMMARY:Ribbon Cutting: HopScotch Tavern
DESCRIPTION:Join the Fullerton Chamber of Commerce for a ribbon cutting ceremony celebrating new ownership of HopScotch Tavern Craft Beer & Whiskey in historic downtown Fullerton!
X-ALT-DESC;FMTTYPE=text/html:Join&nbsp\;the Fullerton Chamber of Commerce for a ribbon cutting ceremony&nbsp\;celebrating new ownership of&nbsp\;<a href="http://www.hopscotchtavern.com/">HopScotch</a>&nbsp\;Tavern Craft Beer &amp\; Whiskey in historic downtown Fullerton!
LOCATION:136 E. Commonwealth Ave.\, Fullerton
UID:e.887.11216
SEQUENCE:3
DTSTAMP:20260424T204126Z
URL:https://nocchamber-gzcms.preview.gochambermaster.com/events/details/ribbon-cutting-hopscotch-tavern-11216
END:VEVENT

END:VCALENDAR
