BEGIN:VCALENDAR
VERSION:2.0
PRODID:-//ChamberMaster//Event Calendar 2.0//EN
METHOD:PUBLISH
X-PUBLISHED-TTL:P3D
REFRESH-INTERVAL:P3D
CALSCALE:GREGORIAN
BEGIN:VEVENT
DTSTART:20140821T230000Z
DTEND:20140822T000000Z
X-MICROSOFT-CDO-ALLDAYEVENT:FALSE
SUMMARY:Ribbon Cutting: Florentine's Downtown Grill
DESCRIPTION:Join us at Florentine's Downtown Grill for a ribbon cutting ceremony August 21 at 4 p.m. to celebrate its 25th anniversary!
X-ALT-DESC;FMTTYPE=text/html:Join us at Florentine&#39\;s Downtown Grill for a ribbon cutting ceremony August 21 at 4 p.m. to celebrate its 25th anniversary!
LOCATION:102 N. Harbor Blvd.\, Fullerton
UID:e.887.8869
SEQUENCE:3
DTSTAMP:20260425T105059Z
URL:https://nocchamber-gzcms.preview.gochambermaster.com/events/details/ribbon-cutting-florentine-s-downtown-grill-8869
END:VEVENT

END:VCALENDAR
