BEGIN:VCALENDAR
VERSION:2.0
PRODID:-//ChamberMaster//Event Calendar 2.0//EN
METHOD:PUBLISH
X-PUBLISHED-TTL:P3D
REFRESH-INTERVAL:P3D
CALSCALE:GREGORIAN
BEGIN:VEVENT
DTSTART:20160325T170000Z
DTEND:20160325T180000Z
X-MICROSOFT-CDO-ALLDAYEVENT:FALSE
SUMMARY:Ribbon Cutting and Grand Opening Circle K
DESCRIPTION:Join us as we celebrate the Grand Opening and Ribbon Cutting for Circle K Fullerton!
X-ALT-DESC;FMTTYPE=text/html:Join us as we celebrate the Grand Opening and Ribbon Cutting for Circle K Fullerton!
LOCATION:416 S. Harbor Blvd.\, Fullerton
UID:e.887.14125
SEQUENCE:3
DTSTAMP:20260423T142949Z
URL:https://nocchamber-gzcms.preview.gochambermaster.com/events/details/ribbon-cutting-and-grand-opening-circle-k-14125
END:VEVENT

END:VCALENDAR
