BEGIN:VCALENDAR
VERSION:2.0
PRODID:-//ChamberMaster//Event Calendar 2.0//EN
METHOD:PUBLISH
X-PUBLISHED-TTL:P3D
REFRESH-INTERVAL:P3D
CALSCALE:GREGORIAN
BEGIN:VEVENT
DTSTART;VALUE=DATE:20150503
DTEND;VALUE=DATE:20150504
TRANSP:TRANSPARENT
X-MICROSOFT-CDO-ALLDAYEVENT:TRUE
SUMMARY:Railroad Days 2015
DESCRIPTION:Railroad Days will be held on May 2-3 2015 at the Fullerton Train Station. Last year's event was attended by more than 25\,000 people over two days.
X-ALT-DESC;FMTTYPE=text/html:Railroad Days will be held on May 2-3 2015 at the Fullerton Train Station. Last year&#39\;s event was attended by more than 25\,000 people over two days.&nbsp\;
LOCATION:Fullerton Train Station
UID:e.887.10364
SEQUENCE:3
DTSTAMP:20260424T180329Z
URL:https://nocchamber-gzcms.preview.gochambermaster.com/events/details/railroad-days-2015-10364
END:VEVENT

END:VCALENDAR
