BEGIN:VCALENDAR
VERSION:2.0
PRODID:-//ChamberMaster//Event Calendar 2.0//EN
METHOD:PUBLISH
X-PUBLISHED-TTL:P3D
REFRESH-INTERVAL:P3D
CALSCALE:GREGORIAN
BEGIN:VEVENT
DTSTART:20161020T003000Z
DTEND:20161020T050000Z
X-MICROSOFT-CDO-ALLDAYEVENT:FALSE
SUMMARY:Pre-Show Reception for 'Comedy Show for Autism’
DESCRIPTION:'Comedy Show for Autism' is back with national headlining comic Sam Tripoli performing a hybrid comedy and burlesque show\, in support of Fullerton autism charities and special education programs\, at the Fullerton Cares 'Comedy Show for Autism' at Fullerton Ballroom\, 114 E. Commonwealth Ave\, Fullerton\, Wednesday\, October 19\, 2016\, with pre-show reception at 5:30 p.m at Bourbon Street Bar and Grill
X-ALT-DESC;FMTTYPE=text/html:<span style="font-family:arial"><span style="font-size:10.0pt">&lsquo\;Comedy Show for Autism&rsquo\; is back with national headlining comic Sam Tripoli performing a hybrid comedy and burlesque show\, in support of Fullerton autism charities and special education programs\, at the Fullerton Cares &lsquo\;Comedy Show for Autism&rsquo\; at Fullerton Ballroom\, 114 E. Commonwealth Ave\, Fullerton\, Wednesday\, October 19\, 2016\, with pre-show reception at 5:30 p.m at Bourbon Street Bar and Grill</span></span>
LOCATION:Bourbon Street Bar and Grill Bourbon Street is located at 110 E. Commonwealth Ave\, Fullerton\, CA 92832 with 800 adjacent parking stalls
UID:e.887.14830
SEQUENCE:3
DTSTAMP:20260422T062635Z
URL:https://nocchamber-gzcms.preview.gochambermaster.com/events/details/pre-show-reception-for-comedy-show-for-autism-14830
END:VEVENT

END:VCALENDAR
