BEGIN:VCALENDAR
VERSION:2.0
PRODID:-//ChamberMaster//Event Calendar 2.0//EN
METHOD:PUBLISH
X-PUBLISHED-TTL:P3D
REFRESH-INTERVAL:P3D
CALSCALE:GREGORIAN
BEGIN:VEVENT
DTSTART:20180714T020000Z
DTEND:20180714T040000Z
X-MICROSOFT-CDO-ALLDAYEVENT:FALSE
SUMMARY:Pet Silhouette Painting
DESCRIPTION:Fullerton Museum Center will be holding a Pet Silhouette Painting event for the community on Friday\, July 13\, 2018 from 7:00 p.m. to 9:00 p.m. \n\n\n\n*Wine and beer will be available for purchase and the museum will be open for viewing\n\n\n\nAdmission is $20 for General and $15 for Museum Members. \n\n\n\nPlease bring a photograph of your pet as a reference for the event. \n\n\n\n**Reservation is required due to limited seating availability
X-ALT-DESC;FMTTYPE=text/html:Fullerton Museum Center will be holding a Pet Silhouette Painting event for the community on Friday\, July 13\, 2018 from 7:00 p.m. to 9:00 p.m.&nbsp\;<br />\n<br />\n*Wine and beer will be available for purchase and the museum will be open for viewing<br />\n<br />\nAdmission is $20 for General and $15 for Museum Members.&nbsp\;<br />\n<br />\nPlease bring a photograph of your pet as a reference for the event.&nbsp\;<br />\n<br />\n<strong>**Reservation is required due to limited seating availability</strong>
LOCATION:Fullerton Museum Center 301 N. Pomona Ave. Fullerton\, CA 92832
UID:e.887.22528
SEQUENCE:3
DTSTAMP:20260422T100742Z
URL:https://nocchamber-gzcms.preview.gochambermaster.com/events/details/pet-silhouette-painting-22528
END:VEVENT

END:VCALENDAR
