BEGIN:VCALENDAR
VERSION:2.0
PRODID:-//ChamberMaster//Event Calendar 2.0//EN
METHOD:PUBLISH
X-PUBLISHED-TTL:P3D
REFRESH-INTERVAL:P3D
CALSCALE:GREGORIAN
BEGIN:VEVENT
DTSTART:20160722T183000Z
DTEND:20160722T200000Z
X-MICROSOFT-CDO-ALLDAYEVENT:FALSE
SUMMARY:P5 Graphics & Displays
DESCRIPTION:Join us as we celebrate the 1 Year Anniversary of P5 Graphics & Displays!\n\nFollowing the ribbon cutting ceremony P5 will be hosting attendees for a tour and lunch.
X-ALT-DESC;FMTTYPE=text/html:Join us as we celebrate the 1 Year Anniversary of P5 Graphics &amp\; Displays!<br />\nFollowing the ribbon cutting ceremony P5 will be hosting attendees for a tour and lunch.
LOCATION:1450 Manhattan Ave\, Fullerton\, CA 92831
UID:e.887.14561
SEQUENCE:3
DTSTAMP:20260423T021947Z
URL:https://nocchamber-gzcms.preview.gochambermaster.com/events/details/p5-graphics-displays-14561
END:VEVENT

END:VCALENDAR
