BEGIN:VCALENDAR
VERSION:2.0
PRODID:-//ChamberMaster//Event Calendar 2.0//EN
METHOD:PUBLISH
X-PUBLISHED-TTL:P3D
REFRESH-INTERVAL:P3D
CALSCALE:GREGORIAN
BEGIN:VEVENT
DTSTART:20180117T013000Z
DTEND:20180117T030000Z
X-MICROSOFT-CDO-ALLDAYEVENT:FALSE
SUMMARY:Orthopedic Injury: The Struggle is Real - Placentia Linda Hospital
DESCRIPTION:Placentia Linda Hospital host an on-going Orthopedic and Sports Medicine lecture series. Hear from orthopedic surgeons on the signs\, dysfunctions\, and surgical and non-surgical treatment of orthopedic injury. This is a free class and will include refreshment. Class size is Limited to 20. This series will be held every 3rd Tuesday featuring different orthopedic topic each session.
X-ALT-DESC;FMTTYPE=text/html:<span font-size:="" open="" style="color: rgb(0\, 0\, 0)\; font-family: ">Placentia Linda Hospital host an&nbsp\;on-going Orthopedic and Sports Medicine lecture series. H</span><span font-size:="" open="" style="color: rgb(0\, 0\, 0)\; font-family: ">ear from orthopedic surgeons on the signs\, dysfunctions\, and surgical and non-surgical&nbsp\;</span><span font-size:="" open="" style="color: rgb(0\, 0\, 0)\; font-family: ">treatment of orthopedic injury. This is a free class and will include refreshment. Class size is&nbsp\;</span><span font-size:="" open="" style="color: rgb(0\, 0\, 0)\; font-family: ">Limited to 20. This series will be held every 3rd Tuesday featuring different orthopedic topic each session.</span>
LOCATION:Placentia-Linda Learning Center 1275 N. Rose Dr. Ste. 124 Placentia\, CA 92870
UID:e.887.17477
SEQUENCE:3
DTSTAMP:20260421T204257Z
URL:https://nocchamber-gzcms.preview.gochambermaster.com/events/details/orthopedic-injury-the-struggle-is-real-placentia-linda-hospital-17477
END:VEVENT

END:VCALENDAR
