BEGIN:VCALENDAR
VERSION:2.0
PRODID:-//ChamberMaster//Event Calendar 2.0//EN
METHOD:PUBLISH
X-PUBLISHED-TTL:P3D
REFRESH-INTERVAL:P3D
CALSCALE:GREGORIAN
BEGIN:VEVENT
DTSTART:20140829T023000Z
DTEND:20140829T050000Z
X-MICROSOFT-CDO-ALLDAYEVENT:FALSE
SUMMARY:Orange Empire Chorus
DESCRIPTION:The Orange Empire Chorus is the Fullerton chapter of the Barbershop Harmony Society\, an international organization of approximately 30\,000 members. The mission of the society is to perpetuate the musical form of a capella and to support music education.
X-ALT-DESC;FMTTYPE=text/html:The Orange Empire Chorus is the Fullerton chapter of the Barbershop Harmony Society\, an international organization of approximately 30\,000 members. The mission of the society is to perpetuate the musical form of a capella and to support music education.
LOCATION:The Muckenthaler Cultural Center
UID:e.887.8721
SEQUENCE:3
DTSTAMP:20260425T120722Z
URL:https://nocchamber-gzcms.preview.gochambermaster.com/events/details/orange-empire-chorus-8721
END:VEVENT

END:VCALENDAR
