BEGIN:VCALENDAR
VERSION:2.0
PRODID:-//ChamberMaster//Event Calendar 2.0//EN
METHOD:PUBLISH
X-PUBLISHED-TTL:P3D
REFRESH-INTERVAL:P3D
CALSCALE:GREGORIAN
BEGIN:VEVENT
DTSTART:20170518T140000Z
DTEND:20170518T180000Z
X-MICROSOFT-CDO-ALLDAYEVENT:FALSE
SUMMARY:Orange County World Trade Week Breakfast & Forum
DESCRIPTION:World Trade Week focuses on the value of trade and the benefits of exporting. This event gives every attendee the opportunity to meet face-to-face with the trade organizations and international chambers that can help you decide to export or grow your exports.\n\nWe invite you to join us in our salute to trade and export. This is our opportunity to encourage businesses of all sizes to explore trade as a means to grow\, increase the volume of trade in Irvine\, Orange County and the region benefits our economy and the region's trade infrastructure.
X-ALT-DESC;FMTTYPE=text/html:<div class="row">\n<div class="col-xs-10">\n<h3 class="colored-text-secondary" id="coloredTextSecondary"><span style="font-size:12px\;">World Trade Week focuses on the value of trade and the benefits of exporting. This event gives every attendee the opportunity to meet face-to-face with the trade organizations and international chambers that can help you decide to export or grow your exports.<br />\nWe invite you to join us in our salute to trade and export. This is our opportunity to encourage businesses of all sizes to explore trade as a means to grow\, increase&nbsp\;the volume of trade in Irvine\, Orange County and the region benefits our economy and the region&#39\;s trade infrastructure.</span></h3>\n</div>\n</div>\n\n<div class="row">\n<div class="col-xs-8">\n<p>&nbsp\;</p>\n</div>\n</div>\n
LOCATION:Irvine Marriott 18000 Von Karman Ave. Irvine\, CA 92612
UID:e.887.16034
SEQUENCE:3
DTSTAMP:20260421T051213Z
URL:https://nocchamber-gzcms.preview.gochambermaster.com/events/details/orange-county-world-trade-week-breakfast-forum-05-18-2017-16034
END:VEVENT

END:VCALENDAR
