BEGIN:VCALENDAR
VERSION:2.0
PRODID:-//ChamberMaster//Event Calendar 2.0//EN
METHOD:PUBLISH
X-PUBLISHED-TTL:P3D
REFRESH-INTERVAL:P3D
CALSCALE:GREGORIAN
BEGIN:VEVENT
DTSTART:20150220T170000Z
DTEND:20150220T190000Z
X-MICROSOFT-CDO-ALLDAYEVENT:FALSE
SUMMARY:Orange County One Stop Workshop
DESCRIPTION:Key Steps to Business Growth Strategy\n\nSocial Media - How to Capitalize it to grow your business\n\nMike Marinoff\, nationally recognized marketing and business development expert shares information small businesses want to know about establishing an maintaining a presence on social media.
X-ALT-DESC;FMTTYPE=text/html:Key Steps to Business Growth Strategy<br />\nSocial Media - How to Capitalize it to grow your business<br />\nMike Marinoff\, nationally recognized marketing and business development expert shares information small businesses want to know about establishing an maintaining a presence on social media.
LOCATION:Fullerton Chamber\, 444 N. Harbor Blvd.\, Suite 200\, Fullerton\, CA 92832
UID:e.887.10296
SEQUENCE:3
DTSTAMP:20260425T013159Z
URL:https://nocchamber-gzcms.preview.gochambermaster.com/events/details/orange-county-one-stop-workshop-10296
END:VEVENT

END:VCALENDAR
