BEGIN:VCALENDAR
VERSION:2.0
PRODID:-//ChamberMaster//Event Calendar 2.0//EN
METHOD:PUBLISH
X-PUBLISHED-TTL:P3D
REFRESH-INTERVAL:P3D
CALSCALE:GREGORIAN
BEGIN:VEVENT
DTSTART:20140226T020000Z
DTEND:20140226T040000Z
X-MICROSOFT-CDO-ALLDAYEVENT:FALSE
SUMMARY:Orange County Career Fair - Hosted by United Career Fairs
DESCRIPTION:Meet face to face with multiple decision makers hiring professionals across many industries. Our events are open to executive level experienced professionals as well as entry level and recent college graduates. This is your chance to meet directly with hiring managers! Orange County Career Fair Tuesday\, February 25th\, 2014 - 6pm Sharp Holiday Inn & Suites Fullerton 2932 East Nutwood Ave. Fullerton\, CA 92831 *Business professional attire required
X-ALT-DESC;FMTTYPE=text/html:Meet face to face with multiple decision makers hiring professionals across many industries. Our events are open to executive level experienced professionals as well as entry level and recent college graduates. This is your chance to meet directly with hiring managers! Orange County Career Fair Tuesday\, February 25th\, 2014 - 6pm Sharp Holiday Inn &amp\; Suites Fullerton 2932 East Nutwood Ave. Fullerton\, CA 92831 *Business professional attire required
LOCATION:Holiday Inn & Suites Fullerton 2932 East Nutwood Ave. Fullerton\, CA 92831
UID:e.887.8739
SEQUENCE:3
DTSTAMP:20260426T001010Z
URL:https://nocchamber-gzcms.preview.gochambermaster.com/events/details/orange-county-career-fair-hosted-by-united-career-fairs-8739
END:VEVENT

END:VCALENDAR
