BEGIN:VCALENDAR
VERSION:2.0
PRODID:-//ChamberMaster//Event Calendar 2.0//EN
METHOD:PUBLISH
X-PUBLISHED-TTL:P3D
REFRESH-INTERVAL:P3D
CALSCALE:GREGORIAN
BEGIN:VEVENT
DTSTART:20160728T010000Z
DTEND:20160728T033000Z
X-MICROSOFT-CDO-ALLDAYEVENT:FALSE
SUMMARY:OC SBDC: Understanding Common Clauses in Commercial Contracts
DESCRIPTION:Orange County Small Business Development Center Presents: What every business owner should know about commercial contracts. Topics to be covered include business contract terms including:\n\n\n\n1. Indemnity\n\n2. Venue\n\n3. Alternative Dispute Resolution\n\n4. The significance of an attorneys' fees clause\n\n5. Limitations on damages\n\n6. Liquidated damages\n\n7. Non-Waiver\n\n8. Non-Competes\n\n9. Non-Solicitation\n\n10. "Time is of the essence"\n\n11. Contractual Clause that Limit the Statute of Limitations\n\n\n\nAlso to be discussed is the distinction between a gross and net commercial real estate lease and subleases and assignments. About the presenter: Joshua Waldman\, Esq. is a Senior Counsel with the law firm of Burkhalter Kessler Clement & George LLP whose practice focuses primarily on business disputes. Mr. Waldman is admitted to practice in all courts of the State of California and the United States District Court for the Central District of California. He attended the University Of San Diego School Of Law and obtained a J.D. in 2002\, where he graduated in the top fifth of his class\, and earned an M.B.A. from the University Of San Diego School Of Business in 2003. Mr. Waldman is a member of the American Bar Association and the Orange County Bar Association.
X-ALT-DESC;FMTTYPE=text/html:Orange County Small Business Development Center Presents: What every business owner should know about commercial contracts. Topics to be covered include business contract terms including:<br />\n<br />\n1. Indemnity<br />\n2. Venue<br />\n3. Alternative Dispute Resolution<br />\n4. The significance of an attorneys&#39\; fees clause<br />\n5. Limitations on damages<br />\n6. Liquidated damages<br />\n7. Non-Waiver<br />\n8. Non-Competes<br />\n9. Non-Solicitation<br />\n10. &quot\;Time is of the essence&quot\;<br />\n11. Contractual Clause that Limit the Statute of Limitations<br />\n<br />\nAlso to be discussed is the distinction between a gross and net commercial real estate lease and subleases and assignments. About the presenter: Joshua Waldman\, Esq. is a Senior Counsel with the law firm of Burkhalter Kessler Clement &amp\; George LLP whose practice focuses primarily on business disputes. Mr. Waldman is admitted to practice in all courts of the State of California and the United States District Court for the Central District of California. He attended the University Of San Diego School Of Law and obtained a J.D. in 2002\, where he graduated in the top fifth of his class\, and earned an M.B.A. from the University Of San Diego School Of Business in 2003. Mr. Waldman is a member of the American Bar Association and the Orange County Bar Association.
LOCATION:Burkhalter Kessler Clement & George LLP (BKCG) 2020 Main Street\, Suite 600\, Irvine CA 92614
UID:e.887.14542
SEQUENCE:3
DTSTAMP:20260423T004323Z
URL:https://nocchamber-gzcms.preview.gochambermaster.com/events/details/oc-sbdc-understanding-common-clauses-in-commercial-contracts-14542
END:VEVENT

END:VCALENDAR
