BEGIN:VCALENDAR
VERSION:2.0
PRODID:-//ChamberMaster//Event Calendar 2.0//EN
METHOD:PUBLISH
X-PUBLISHED-TTL:P3D
REFRESH-INTERVAL:P3D
CALSCALE:GREGORIAN
BEGIN:VEVENT
DTSTART:20160708T010000Z
DTEND:20160708T033000Z
X-MICROSOFT-CDO-ALLDAYEVENT:FALSE
SUMMARY:OC SBDC: Small Business Jump-Start
DESCRIPTION:Small Business Jump-Start is the workshop designed to bring a great idea to reality. Choosing the right small business to start -- one that will succeed   requires planning\, creativity and hard work.\n\n\n\nYou will get answers to questions like:   How Do I Start?   Where are My Resources?   Who is a reliable source for Information?   How much capital will I need to launch?   How will I know what I don't know?   What are my next steps?   How do I create a plan? The Small Business Jump-Start Workshop is facilitated by a Orange County Small Business Development Center (SBDC) Business Consultant who will provide an informative and interactive presentation on business essentials. The topics covered include but are not limited to:   Being an Entrepreneur   Business Planning   Financing a Small Business   Legal Forms of Organization   Licensing and Permits Throughout the workshop\, our highly experienced consultant will assess participants' readiness for no-cost one-on-one consultation services to discuss start-up\, growth and expansion plans. Staff will be available to make appointments with qualified business owners to meet with Orange County SBDC Consultants. Presented by: Orange County Small Business Development Center
X-ALT-DESC;FMTTYPE=text/html:Small Business Jump-Start is the workshop designed to bring a great idea to reality.&nbsp\;Choosing the right small business to start -- one that will succeed &ndash\; requires planning\, creativity and hard work.<br />\n<br />\nYou will get answers to questions like: &bull\; How Do I Start? &bull\; Where are My Resources? &bull\; Who is a reliable source for Information? &bull\; How much capital will I need to launch? &bull\; How will I know what I don&rsquo\;t know? &bull\; What are my next steps? &bull\; How do I create a plan? The Small Business Jump-Start Workshop is facilitated by a Orange County Small Business Development Center (SBDC) Business Consultant who will provide an informative and interactive presentation on business essentials. The topics covered include but are not limited to: &bull\; Being an Entrepreneur &bull\; Business Planning &bull\; Financing a Small Business &bull\; Legal Forms of Organization &bull\; Licensing and Permits Throughout the workshop\, our highly experienced consultant will assess participants&#39\; readiness for no-cost one-on-one consultation services to discuss start-up\, growth and expansion plans. Staff will be available to make appointments with qualified business owners to meet with Orange County SBDC Consultants. Presented by: Orange County Small Business Development Center
LOCATION:Norman P. Murray Center 24932 Veterans Way\, Jacaranda B\, Mission Viejo CA 92692
UID:e.887.14538
SEQUENCE:3
DTSTAMP:20260423T003341Z
URL:https://nocchamber-gzcms.preview.gochambermaster.com/events/details/oc-sbdc-small-business-jump-start-14538
END:VEVENT

END:VCALENDAR
