BEGIN:VCALENDAR
VERSION:2.0
PRODID:-//ChamberMaster//Event Calendar 2.0//EN
METHOD:PUBLISH
X-PUBLISHED-TTL:P3D
REFRESH-INTERVAL:P3D
CALSCALE:GREGORIAN
BEGIN:VEVENT
DTSTART:20160624T010000Z
DTEND:20160624T030000Z
X-MICROSOFT-CDO-ALLDAYEVENT:FALSE
SUMMARY:OC SBDC: Are You Using Social Media to Your Advantage?
DESCRIPTION:Presented by: Orange County Small Business Development Center. What you'll learn: Metrics   can be like magic. Have you wondered: how can the reports and analytics of digital marketing give you the insight and key info you need to succeed? This seminar will take you step-by-step through the amazing data generated by all the key online marketing tools   and give you tips on how to use it. Best times\, days and ways to get the response you want How analytics can help you know what is hot and what is not How to focus your time\, efforts and energy How to know what media works and why How to really monitor a campaign's effectiveness Presenter: Mark Mikelat (Constant Contact Authorized Local Expert)
X-ALT-DESC;FMTTYPE=text/html:Presented by: Orange County Small Business Development Center. What you&#39\;ll learn: Metrics &ndash\; can be like magic. Have you wondered: how can the reports and analytics of digital marketing give you the insight and key info you need to succeed? This seminar will take you step-by-step through the amazing data generated by all the key online marketing tools &ndash\; and give you tips on how to use it. Best times\, days and ways to get the response you want How analytics can help you know what is hot and what is not How to focus your time\, efforts and energy How to know what media works and why How to really monitor a campaign&#39\;s effectiveness Presenter: Mark Mikelat (Constant Contact Authorized Local Expert)
LOCATION:2323 N. Broadway\, Room 107\, Santa Ana CA 92706-1606
UID:e.887.14536
SEQUENCE:3
DTSTAMP:20260423T121527Z
URL:https://nocchamber-gzcms.preview.gochambermaster.com/events/details/oc-sbdc-are-you-using-social-media-to-your-advantage-14536
END:VEVENT

END:VCALENDAR
