BEGIN:VCALENDAR
VERSION:2.0
PRODID:-//ChamberMaster//Event Calendar 2.0//EN
METHOD:PUBLISH
X-PUBLISHED-TTL:P3D
REFRESH-INTERVAL:P3D
CALSCALE:GREGORIAN
BEGIN:VEVENT
DTSTART:20181103T160000Z
DTEND:20181103T210000Z
X-MICROSOFT-CDO-ALLDAYEVENT:FALSE
SUMMARY:OC Registrar of Voters - "Pop Up" Buena Park Farmers Market
DESCRIPTION:The Registrar of Voters' mobile unit offers a quick service option for voters looking to save time on Election Day (and offering to vote in locations not usually set-up as traditional polling places). Casting a ballot early is suitable to many voters that do not wish to vote-by-mail\, but cannot make it to their polling place on Election Day.\n\n\n\nBuena Park is holding their "Pop Up" Voting Mobile at the Buena Park Farmers Market.
X-ALT-DESC;FMTTYPE=text/html:<span style="color: rgb(68\, 68\, 68)\; font-family: Arial\, Helvetica\, sans-serif\; font-size: 14px\;">The Registrar of Voters&#39\; mobile unit offers a quick service option for voters looking to save time on Election Day (and offering to vote in locations not usually set-up as traditional polling places). Casting a ballot early is suitable to many voters that do not wish to vote-by-mail\, but cannot make it to their polling place on Election Day.<br />\n<br />\nBuena Park is holding their&nbsp\;&quot\;Pop Up&quot\; Voting Mobile at the Buena Park Farmers Market.</span>
LOCATION:Buena Park Farmers Market La Palma Avenue and Stanton Avenue Buena Park\, CA 90620 Located in Sears parking lot at Buena Park Downtown
UID:e.887.22821
SEQUENCE:3
DTSTAMP:20260423T082155Z
URL:https://nocchamber-gzcms.preview.gochambermaster.com/events/details/oc-registrar-of-voters-pop-up-buena-park-farmers-market-22821
END:VEVENT

END:VCALENDAR
