BEGIN:VCALENDAR
VERSION:2.0
PRODID:-//ChamberMaster//Event Calendar 2.0//EN
METHOD:PUBLISH
X-PUBLISHED-TTL:P3D
REFRESH-INTERVAL:P3D
CALSCALE:GREGORIAN
BEGIN:VEVENT
DTSTART:20170519T013000Z
DTEND:20170519T033000Z
X-MICROSOFT-CDO-ALLDAYEVENT:FALSE
SUMMARY:Observing Black Holes From Across the Universe
DESCRIPTION:Hear from Dr. Joshua Smith\, Ph.D from California State University\, Fullerton speak about his latest discovery\, observing black holes from across the universe with Einstein's Gravitational Waves. Many in the science and academic communities feel that his discovery has Nobel Prize potential. Seating is limited. \n\n\n\nDr. Smith directs the Gravitational-Wave Physics and Astronomy Center (GWPAC) and is an associate professor of physics at California State University\, Fullerton.
X-ALT-DESC;FMTTYPE=text/html:Hear from Dr. Joshua Smith\, Ph.D from California State University\, Fullerton speak about his latest discovery\, observing black holes from across the universe with Einstein&#39\;s Gravitational Waves. Many in the science and academic communities feel that his discovery has Nobel Prize potential. Seating is limited.&nbsp\;<br />\n<br />\nDr. Smith directs the Gravitational-Wave Physics and Astronomy Center (GWPAC) and is an associate professor of physics at California State University\, Fullerton.<br />\n&nbsp\;
LOCATION:Fullerton Community Center 340 West Commonwealth Ave Fullerton\, CA 92832
UID:e.887.15999
SEQUENCE:3
DTSTAMP:20260421T062948Z
URL:https://nocchamber-gzcms.preview.gochambermaster.com/events/details/observing-black-holes-from-across-the-universe-15999
END:VEVENT

END:VCALENDAR
