BEGIN:VCALENDAR
VERSION:2.0
PRODID:-//ChamberMaster//Event Calendar 2.0//EN
METHOD:PUBLISH
X-PUBLISHED-TTL:P3D
REFRESH-INTERVAL:P3D
CALSCALE:GREGORIAN
BEGIN:VEVENT
DTSTART:20151104T153000Z
DTEND:20151104T170000Z
X-MICROSOFT-CDO-ALLDAYEVENT:FALSE
SUMMARY:NOCLA Meeting
DESCRIPTION:Workforce Development and Facilities Update\n\n\n\nRepresentatives from the North Orange County Community College District will discuss ideas centered on how to train future generations for the workforce and the impact of Measure J on district campuses. The panel will include Greg Shulz\, Provost\, School of Continuing Education\, and Fred Williams\, Interim Chancellor\, as well as a representative from Cypress College.\n\n\n\nThe North Orange County Legislative Alliance (NOCLA) advocates for public policy that encourages business growth and economic expansion for businesses in Brea\, Fullerton\, La Habra\, Placentia\, and Yorba Linda through the combined influence of five chambers.
X-ALT-DESC;FMTTYPE=text/html:<p><span style="color: rgb(102\, 153\, 102)\;"><span style="line-height: 23.11px\;"><span style="font-size: 22px\;"><strong>Workforce Development and Facilities Updat</strong></span></span></span><span style="color: rgb(102\, 153\, 0)\; line-height: 23.11px\;"><span style="font-size: 22px\;"><strong>e</strong></span></span><br style="line-height: 23.11px\;" />\n<br />\n<span style="color: rgb(102\, 102\, 102)\; line-height: 23.11px\;">Representatives from the North Orange County Community College District will discuss ideas centered on how to&nbsp\;train future generations for the workforce and the impact of Measure J on district campuses.&nbsp\;The panel will include Greg&nbsp\;Shulz\,&nbsp\;Provost\, School of Continuing&nbsp\;Education\, and&nbsp\;Fred&nbsp\;Williams\,&nbsp\;Interim&nbsp\;Chancellor\, as well as a representative from Cypress College.</span><br style="line-height: 23.11px\;" />\n<br />\n<span style="color: rgb(102\, 102\, 102)\; line-height: 23.11px\;">The&nbsp\;<strong>North Orange County Legislative Alliance (NOCLA)</strong>&nbsp\;advocates for public policy that encourages business growth and economic expansion for businesses in Brea\, Fullerton\, La&nbsp\;Habra\,&nbsp\;Placentia\, and&nbsp\;Yorba&nbsp\;Linda through the combined influence of five chambers. </span></p>\n
LOCATION:Brea Civic Center\, 1 Civic Center Drive\, Brea
UID:e.887.214
SEQUENCE:3
DTSTAMP:20260424T061620Z
URL:https://nocchamber-gzcms.preview.gochambermaster.com/events/details/nocla-meeting-11-04-2015-214
END:VEVENT

END:VCALENDAR
