BEGIN:VCALENDAR
VERSION:2.0
PRODID:-//ChamberMaster//Event Calendar 2.0//EN
METHOD:PUBLISH
X-PUBLISHED-TTL:P3D
REFRESH-INTERVAL:P3D
CALSCALE:GREGORIAN
BEGIN:VEVENT
DTSTART:20150401T143000Z
DTEND:20150401T160000Z
X-MICROSOFT-CDO-ALLDAYEVENT:FALSE
SUMMARY:NOCLA Meeting
DESCRIPTION:The North Orange County Legislative Alliance (NOCLA) advocates for public policy that encourages business growth and economic expansion for businesses in Brea\, Fullerton\, La Habra\, Placentia\, and Yorba Linda through the combined influence of five chambers. The group meets the first Wednesday of each month\, 7:30-9 a.m.\, Brea Civic Center\, 1 Civic Center Drive.
X-ALT-DESC;FMTTYPE=text/html:<p>The <strong>North Orange County Legislative Alliance (NOCLA)</strong> advocates for public policy that encourages business growth and economic expansion for businesses in Brea\, Fullerton\, La Habra\, Placentia\, and Yorba Linda through the combined influence of five chambers. The group meets the first Wednesday of each month\, 7:30-9 a.m.\, Brea Civic Center\, 1 Civic Center Drive.</p>\n
LOCATION:ROOM CHANGE- Meet on first floor of council chambers
UID:e.887.207
SEQUENCE:3
DTSTAMP:20260424T225116Z
URL:https://nocchamber-gzcms.preview.gochambermaster.com/events/details/nocla-meeting-04-01-2015-207
END:VEVENT

END:VCALENDAR
