BEGIN:VCALENDAR
VERSION:2.0
PRODID:-//ChamberMaster//Event Calendar 2.0//EN
METHOD:PUBLISH
X-PUBLISHED-TTL:P3D
REFRESH-INTERVAL:P3D
CALSCALE:GREGORIAN
BEGIN:VEVENT
DTSTART:20170825T153000Z
DTEND:20170825T163000Z
X-MICROSOFT-CDO-ALLDAYEVENT:FALSE
SUMMARY:NOC Chamber Public Policy Committee
DESCRIPTION:Join the chamber's Public Policy Committee every month and hear from the "movers and shakers" from around North Orange County discuss issues facing the business community. \n\n\n\nThis month we will hear from a representative from the U.S. Chamber of Commerce to receive a Federal update.
X-ALT-DESC;FMTTYPE=text/html:Join the chamber&#39\;s Public Policy Committee every month and hear from the &quot\;movers and shakers&quot\; from around North Orange County discuss issues facing the business community.&nbsp\;<br />\n<br />\nThis month we will hear from a representative from the&nbsp\;U.S. Chamber of Commerce to receive a Federal update.
LOCATION:NOC Chamber - Large Conference Room 444 N. Harbor Blvd. Suite 200 Fullerton\, CA 92832
UID:e.887.16117
SEQUENCE:3
DTSTAMP:20260420T232218Z
URL:https://nocchamber-gzcms.preview.gochambermaster.com/events/details/noc-chamber-public-policy-committee-08-25-2017-16117
END:VEVENT

END:VCALENDAR
